BEGIN:VCALENDAR
VERSION:2.0
PRODID:-//Wildro - ECPv6.2.9//NONSGML v1.0//EN
CALSCALE:GREGORIAN
METHOD:PUBLISH
X-ORIGINAL-URL:https://wildro.nl
X-WR-CALDESC:Evenementen voor Wildro
REFRESH-INTERVAL;VALUE=DURATION:PT1H
X-Robots-Tag:noindex
X-PUBLISHED-TTL:PT1H
BEGIN:VTIMEZONE
TZID:UTC
BEGIN:STANDARD
TZOFFSETFROM:+0000
TZOFFSETTO:+0000
TZNAME:UTC
DTSTART:20260101T000000
END:STANDARD
TZID:Europe/Amsterdam
BEGIN:DAYLIGHT
TZOFFSETFROM:+0100
TZOFFSETTO:+0200
TZNAME:CEST
DTSTART:20260329T010000
END:DAYLIGHT
BEGIN:STANDARD
TZOFFSETFROM:+0200
TZOFFSETTO:+0100
TZNAME:CET
DTSTART:20261025T010000
END:STANDARD
END:VTIMEZONE
BEGIN:VEVENT
DTSTART;TZID=UTC:20260501T100000
DTEND;TZID=UTC:20260501T170000
DTSTAMP:20260423T034726
CREATED:20240110T140913Z
LAST-MODIFIED:20260212T164513Z
UID:395-1777629600-1777654800@wildro.nl
SUMMARY:Braderie Duitse dag Centrum Coevorden
DESCRIPTION:Braderie \nGrondplaats: € 6\,00 per strekkende meter\nKraam: € 45\,00 (excl. btw incl. grondplaats) per kraam \n(over grondplaats wordt geen btw berekend) \nExtra’s bij kraam:  (aangeven bij opmerkingen) \nExtra noklat € 2\,50 per stuk\nExtra set planken € 5\,00
URL:https://wildro.nl/event/braderie-duitse-dag-centrum-coevorden/
CATEGORIES:Braderieën
END:VEVENT
BEGIN:VEVENT
DTSTART;TZID=Europe/Amsterdam:20260509T100000
DTEND;TZID=Europe/Amsterdam:20260509T170000
DTSTAMP:20260423T034726
CREATED:20240222T133820Z
LAST-MODIFIED:20260129T215336Z
UID:594-1778320800-1778346000@wildro.nl
SUMMARY:Groenmarkt Hoogeveen
DESCRIPTION:Braderie \nGrondplaats: € 6\,00 per strekkende meter\nKraam: € 45\,00 (excl. btw incl. grondplaats) per kraam \n(over grondplaats wordt geen btw berekend) \nExtra’s bij kraam:  (aangeven bij opmerkingen) \nExtra noklat € 2\,50 per stuk\nExtra set planken € 5\,00
URL:https://wildro.nl/event/groenmarkt-hoogeveen-2/
CATEGORIES:Groenmarkt
END:VEVENT
BEGIN:VEVENT
DTSTART;TZID=UTC:20260510T100000
DTEND;TZID=UTC:20260510T170000
DTSTAMP:20260423T034726
CREATED:20240110T141459Z
LAST-MODIFIED:20260129T215431Z
UID:399-1778407200-1778432400@wildro.nl
SUMMARY:Braderie en vlooienmarkt Voorjaarsmarkt Centrum Gieten
DESCRIPTION:Braderie \nGrondplaats: € 6\,00 per strekkende meter\nKraam: € 45\,00 (excl. btw incl. grondplaats) per kraam \nVlooienmarkt \nGrondplaats: € 3\,00 per strekkende meter\nKraam: € 30\,00 (incl. grondplaats) per kraam \n(over grondplaats wordt geen btw berekend) \nExtra’s bij kraam:  (aangeven bij opmerkingen) \nExtra noklat € 2\,50 per stuk\nExtra set planken € 5\,00
URL:https://wildro.nl/event/braderie-en-vlooienmarkt-voorjaarsmarkt-centrum-gieten/
CATEGORIES:Braderieën,Vlooienmarkten
END:VEVENT
BEGIN:VEVENT
DTSTART;TZID=UTC:20260511T090000
DTEND;TZID=UTC:20260511T170000
DTSTAMP:20260423T034726
CREATED:20240110T141821Z
LAST-MODIFIED:20260129T215457Z
UID:401-1778490000-1778518800@wildro.nl
SUMMARY:Braderie Jaarmarkt Centrum Dwingeloo
DESCRIPTION:Braderie \nGrondplaats: € 6\,00 per strekkende meter\nKraam: € 45\,00 (excl. btw incl. grondplaats) per kraam \n(over grondplaats wordt geen btw berekend) \nExtra’s bij kraam:  (aangeven bij opmerkingen) \nExtra noklat € 2\,50 per stuk\nExtra set planken € 5\,00
URL:https://wildro.nl/event/braderie-jaarmarkt-centrum-dwingeloo/
CATEGORIES:Braderieën
END:VEVENT
BEGIN:VEVENT
DTSTART;TZID=UTC:20260515T110000
DTEND;TZID=UTC:20260515T180000
DTSTAMP:20260423T034726
CREATED:20240110T141056Z
LAST-MODIFIED:20260130T074933Z
UID:397-1778842800-1778868000@wildro.nl
SUMMARY:Braderie Snikkeweek Centrum Musselkanaal
DESCRIPTION:Braderie \nGrondplaats: €6 per strekkende meter\nKraam: €45 (excl. btw incl. grondplaats) per kraam \n(over grondplaats wordt geen btw berekend) \nExtra’s bij kraam:  (aangeven bij opmerkingen) \nExtra noklat € 2\,50 per stuk\nExtra set planken € 5\,00
URL:https://wildro.nl/event/braderie-snikkeweek-centrum-musselkanaal/
CATEGORIES:Braderieën
END:VEVENT
BEGIN:VEVENT
DTSTART;TZID=Europe/Amsterdam:20260524T100000
DTEND;TZID=Europe/Amsterdam:20260524T160000
DTSTAMP:20260423T034726
CREATED:20240125T141835Z
LAST-MODIFIED:20260129T215554Z
UID:597-1779616800-1779638400@wildro.nl
SUMMARY:Braderie en vlooienmarkt Pinkstermarkt Ruinen
DESCRIPTION:Braderie \nGrondplaats: € 6\,00 per strekkende meter\nKraam: € 45\,00 (excl. btw incl. grondplaats) per kraam \nVlooienmarkt \nGrondplaats: € 3\,00 per strekkende meter\nKraam: € 30\,00 (incl. grondplaats) per kraam \n(over grondplaats wordt geen btw berekend) \nExtra’s bij kraam:  (aangeven bij opmerkingen) \nExtra noklat € 2\,50 per stuk\nExtra set planken € 5\,00 \n 
URL:https://wildro.nl/event/braderie-en-vlooienmarkt-pinkstermarkt-ruinen/
CATEGORIES:Braderieën,Vlooienmarkten
END:VEVENT
BEGIN:VEVENT
DTSTART;TZID=Europe/Amsterdam:20260525T100000
DTEND;TZID=Europe/Amsterdam:20260525T170000
DTSTAMP:20260423T034726
CREATED:20251019T183651Z
LAST-MODIFIED:20251019T183651Z
UID:967-1779703200-1779728400@wildro.nl
SUMMARY:Braderie Pinksterfestival Brummen
DESCRIPTION:
URL:https://wildro.nl/event/braderie-pinksterfestival-brummen-2/
CATEGORIES:Braderieën,Groenmarkt
END:VEVENT
END:VCALENDAR