BEGIN:VCALENDAR
VERSION:2.0
PRODID:-//Wildro - ECPv6.2.9//NONSGML v1.0//EN
CALSCALE:GREGORIAN
METHOD:PUBLISH
X-WR-CALNAME:Wildro
X-ORIGINAL-URL:https://wildro.nl
X-WR-CALDESC:Evenementen voor Wildro
REFRESH-INTERVAL;VALUE=DURATION:PT1H
X-Robots-Tag:noindex
X-PUBLISHED-TTL:PT1H
BEGIN:VTIMEZONE
TZID:Europe/Amsterdam
BEGIN:DAYLIGHT
TZOFFSETFROM:+0100
TZOFFSETTO:+0200
TZNAME:CEST
DTSTART:20260329T010000
END:DAYLIGHT
BEGIN:STANDARD
TZOFFSETFROM:+0200
TZOFFSETTO:+0100
TZNAME:CET
DTSTART:20261025T010000
END:STANDARD
TZID:UTC
BEGIN:STANDARD
TZOFFSETFROM:+0000
TZOFFSETTO:+0000
TZNAME:UTC
DTSTART:20260101T000000
END:STANDARD
END:VTIMEZONE
BEGIN:VEVENT
DTSTART;TZID=Europe/Amsterdam:20260820T100000
DTEND;TZID=Europe/Amsterdam:20260820T170000
DTSTAMP:20260423T132721
CREATED:20240111T152710Z
LAST-MODIFIED:20260129T223800Z
UID:523-1787220000-1787245200@wildro.nl
SUMMARY:Braderie en vlooienmarkt Pulledagen Centrum Hoogeveen
DESCRIPTION:Braderie \nGrondplaats: € 10\,00 per strekkende meter\nKraam: € 50\,00 (excl. btw incl. grondplaats) per kraam \nVlooienmarkt \nGrondplaats: € 3\,00 per strekkende meter\nKraam: € 30\,00 (incl. grondplaats) per kraam \n(over grondplaats wordt geen btw berekend) \nExtra’s bij kraam:  (aangeven bij opmerkingen) \nExtra noklat € 2\,50 per stuk\nExtra set planken € 5\,00
URL:https://wildro.nl/event/braderie-en-vlooienmarkt-pulledagen-centrum-hoogeveen-2-3/
CATEGORIES:Braderieën,Vlooienmarkten
END:VEVENT
BEGIN:VEVENT
DTSTART;TZID=Europe/Amsterdam:20260823T100000
DTEND;TZID=Europe/Amsterdam:20260823T170000
DTSTAMP:20260423T132721
CREATED:20251019T181628Z
LAST-MODIFIED:20251023T123030Z
UID:961-1787479200-1787504400@wildro.nl
SUMMARY:Braderie en vlooienmarkt Jaarmarkt Eext
DESCRIPTION:Braderie \nGrondplaats: € 6\,00 per strekkende meter\nKraam: € 45\,00 (excl. btw incl. grondplaats) per kraam \nVlooienmarkt \nGrondplaats: € 3\,00 per strekkende meter\nKraam: € 30\,00 (incl. grondplaats) per kraam \n(over grondplaats wordt geen btw berekend) \nExtra’s bij kraam:  (aangeven bij opmerkingen) \nExtra noklat € 2\,50 per stuk\nExtra set planken € 5\,00
URL:https://wildro.nl/event/braderie-en-vlooienmarkt-jaarmarkt-eext/
CATEGORIES:Braderieën,Vlooienmarkten
END:VEVENT
BEGIN:VEVENT
DTSTART;TZID=UTC:20260826T100000
DTEND;TZID=UTC:20260826T170000
DTSTAMP:20260423T132721
CREATED:20240110T152754Z
LAST-MODIFIED:20260129T225204Z
UID:456-1787738400-1787763600@wildro.nl
SUMMARY:Braderie en vlooienmarkt Siepeldagen Centrum Dwingeloo
DESCRIPTION:Braderie \nGrondplaats: € 6\,00 per strekkende meter\nKraam: € 45\,00 (excl. btw incl. grondplaats) per kraam \nVlooienmarkt \nGrondplaats: € 3\,00 per strekkende meter\nKraam: € 30\,00 (incl. grondplaats) per kraam \n(over grondplaats wordt geen btw berekend) \nExtra’s bij kraam:  (aangeven bij opmerkingen) \nExtra noklat € 2\,50 per stuk\nExtra set planken € 5\,00
URL:https://wildro.nl/event/braderie-en-vlooienmarkt-siepeldagen-centrum-dwingeloo-2-2-3-2/
CATEGORIES:Braderieën,Vlooienmarkten
END:VEVENT
BEGIN:VEVENT
DTSTART;TZID=Europe/Amsterdam:20260829T100000
DTEND;TZID=Europe/Amsterdam:20260829T170000
DTSTAMP:20260423T132721
CREATED:20240111T161405Z
LAST-MODIFIED:20260129T225402Z
UID:553-1787997600-1788022800@wildro.nl
SUMMARY:Braderie en vlooienmarkt Jaarmarkt Centrum Hollandscheveld
DESCRIPTION:Braderie \nGrondplaats: € 6\,00 per strekkende meter\nKraam: € 45\,00 (excl. btw incl. grondplaats) per kraam \nVlooienmarkt \nGrondplaats: € 3\,00 per strekkende meter\nKraam: € 30\,00 (incl. grondplaats) per kraam \n(over grondplaats wordt geen btw berekend) \nExtra’s bij kraam:  (aangeven bij opmerkingen) \nExtra noklat € 2\,50 per stuk\nExtra set planken € 5\,00
URL:https://wildro.nl/event/braderie-en-vlooienmarkt-jaarmarkt-centrum-hollandscheveld/
CATEGORIES:Braderieën,Vlooienmarkten
END:VEVENT
BEGIN:VEVENT
DTSTART;TZID=Europe/Amsterdam:20260904T140000
DTEND;TZID=Europe/Amsterdam:20260904T200000
DTSTAMP:20260423T132721
CREATED:20240111T161520Z
LAST-MODIFIED:20260129T225459Z
UID:555-1788530400-1788552000@wildro.nl
SUMMARY:Braderie en vlooienmarkt Jaarmarkt Centrum Gramsbergen
DESCRIPTION:Braderie \nGrondplaats: € 6\,00 per strekkende meter\nKraam: € 45\,00 (excl. btw incl. grondplaats) per kraam \nVlooienmarkt \nGrondplaats: € 3\,00 per strekkende meter\nKraam: € 30\,00 (incl. grondplaats) per kraam \n(over grondplaats wordt geen btw berekend) \nExtra’s bij kraam:  (aangeven bij opmerkingen) \nExtra noklat € 2\,50 per stuk\nExtra set planken € 5\,00
URL:https://wildro.nl/event/braderie-en-vlooienmarkt-jaarmarkt-centrum-gramsbergen/
CATEGORIES:Braderieën,Vlooienmarkten
END:VEVENT
BEGIN:VEVENT
DTSTART;TZID=Europe/Amsterdam:20260905T100000
DTEND;TZID=Europe/Amsterdam:20260905T170000
DTSTAMP:20260423T132721
CREATED:20240125T144646Z
LAST-MODIFIED:20260129T225642Z
UID:604-1788602400-1788627600@wildro.nl
SUMMARY:Braderie winkelcentrum Nobellaan Assen
DESCRIPTION:Braderie \nGrondplaats: € 6\,00 per strekkende meter\nKraam: € 40\,00 (excl. btw incl. grondplaats) per kraam \n(over grondplaats wordt geen btw berekend) \nExtra’s bij kraam:  (aangeven bij opmerkingen) \nExtra noklat € 2\,50 per stuk\nExtra set planken € 5\,00
URL:https://wildro.nl/event/braderie-winkelcentrum-nobellaan-assen-4-2-3/
CATEGORIES:Braderieën
END:VEVENT
BEGIN:VEVENT
DTSTART;TZID=UTC:20260912T100000
DTEND;TZID=UTC:20260912T170000
DTSTAMP:20260423T132721
CREATED:20240110T142012Z
LAST-MODIFIED:20260212T164940Z
UID:403-1789207200-1789232400@wildro.nl
SUMMARY:Braderie en vlooienmarkt Najaarsmarkt Centrum Coevorden
DESCRIPTION:Braderie \nGrondplaats: € 6\,00 per strekkende meter\nKraam: € 45\,00 (excl. btw incl. grondplaats) per kraam \nVlooienmarkt \nGrondplaats: € 3\,00 per strekkende meter\nKraam: € 30\,00 (incl. grondplaats) per kraam \n(over grondplaats wordt geen btw berekend) \nExtra’s bij kraam:  (aangeven bij opmerkingen) \nExtra noklat € 2\,50 per stuk\nExtra set planken € 5\,00
URL:https://wildro.nl/event/braderie-en-vlooienmarkt-voorjaarsmarkt-centrum-coevorden/
CATEGORIES:Braderieën,Vlooienmarkten
END:VEVENT
BEGIN:VEVENT
DTSTART;TZID=Europe/Amsterdam:20260919T100000
DTEND;TZID=Europe/Amsterdam:20260919T170000
DTSTAMP:20260423T132721
CREATED:20240227T121201Z
LAST-MODIFIED:20260227T121447Z
UID:627-1789812000-1789837200@wildro.nl
SUMMARY:Braderie Floralia Voorthuizen
DESCRIPTION:Braderie \nGrondplaats: € 8\,00 per strekkende meter\nKraam: € 50\,00 (excl. btw incl. grondplaats) per kraam \n(over grondplaats wordt geen btw berekend) \nExtra’s bij kraam:  (aangeven bij opmerkingen) \nExtra noklat € 2\,50 per stuk\nExtra set planken € 5\,00
URL:https://wildro.nl/event/braderie-floralia-voorthuizen/
CATEGORIES:Braderieën
END:VEVENT
BEGIN:VEVENT
DTSTART;TZID=Europe/Amsterdam:20260927T100000
DTEND;TZID=Europe/Amsterdam:20260927T170000
DTSTAMP:20260423T132721
CREATED:20240111T161922Z
LAST-MODIFIED:20260129T225723Z
UID:559-1790503200-1790528400@wildro.nl
SUMMARY:Braderie en vlooienmarkt Jaarmarkt Centrum Erica
DESCRIPTION:Braderie \nGrondplaats: € 6\,00 per strekkende meter\nKraam: € 45\,00 (excl. btw incl. grondplaats) per kraam \nVlooienmarkt \nGrondplaats: € 3\,00 per strekkende meter\nKraam: € 30\,00 (incl. grondplaats) per kraam \n(over grondplaats wordt geen btw berekend) \nExtra’s bij kraam:  (aangeven bij opmerkingen) \nExtra noklat € 2\,50 per stuk\nExtra set planken € 5\,00
URL:https://wildro.nl/event/braderie-en-vlooienmarkt-jaarmarkt-centrum-erica/
CATEGORIES:Braderieën,Vlooienmarkten
END:VEVENT
BEGIN:VEVENT
DTSTART;TZID=Europe/Amsterdam:20261002T140000
DTEND;TZID=Europe/Amsterdam:20261002T200000
DTSTAMP:20260423T132721
CREATED:20240111T162427Z
LAST-MODIFIED:20260217T165152Z
UID:563-1790949600-1790971200@wildro.nl
SUMMARY:Braderie Winkelweken Musselkanaal
DESCRIPTION:Braderie \nGrondplaats: € 6\,00 per strekkende meter\nKraam: € 45\,00 (excl. btw incl. grondplaats) per kraam \n(over grondplaats wordt geen btw berekend) \nExtra’s bij kraam:  (aangeven bij opmerkingen) \nExtra noklat € 2\,50 per stuk\nExtra set planken € 5\,00
URL:https://wildro.nl/event/braderie-winkelweken-musselkanaal/
CATEGORIES:Braderieën
END:VEVENT
BEGIN:VEVENT
DTSTART;TZID=Europe/Amsterdam:20261003T100000
DTEND;TZID=Europe/Amsterdam:20261003T170000
DTSTAMP:20260423T132721
CREATED:20240111T162147Z
LAST-MODIFIED:20260212T164600Z
UID:561-1791021600-1791046800@wildro.nl
SUMMARY:Braderie Duitse dag Centrum Coevorden
DESCRIPTION:Braderie \nGrondplaats: € 6\,00 per strekkende meter\nKraam: € 45\,00 (excl. btw incl. grondplaats) per kraam \n(over grondplaats wordt geen btw berekend) \nExtra’s bij kraam:  (aangeven bij opmerkingen) \nExtra noklat € 2\,50 per stuk\nExtra set planken € 5\,00
URL:https://wildro.nl/event/braderie-duitse-dag-centrum-coevorden-2/
CATEGORIES:Braderieën
END:VEVENT
BEGIN:VEVENT
DTSTART;TZID=Europe/Amsterdam:20261004T100000
DTEND;TZID=Europe/Amsterdam:20261004T170000
DTSTAMP:20260423T132721
CREATED:20240111T162710Z
LAST-MODIFIED:20260129T225801Z
UID:567-1791108000-1791133200@wildro.nl
SUMMARY:Braderie en vlooienmarkt Najaarsmarkt Centrum Gieten
DESCRIPTION:Braderie \nGrondplaats: € 6\,00 per strekkende meter\nKraam: € 45\,00 (excl. btw incl. grondplaats) per kraam \nVlooienmarkt \nGrondplaats: € 3\,00 per strekkende meter\nKraam: € 30\,00 (incl. grondplaats) per kraam \n(over grondplaats wordt geen btw berekend) \nExtra’s bij kraam:  (aangeven bij opmerkingen) \nExtra noklat € 2\,50 per stuk\nExtra set planken € 5\,00
URL:https://wildro.nl/event/braderie-en-vlooienmarkt-najaarsmarkt-centrum-gieten/
CATEGORIES:Braderieën,Vlooienmarkten
END:VEVENT
BEGIN:VEVENT
DTSTART;TZID=Europe/Amsterdam:20261009T140000
DTEND;TZID=Europe/Amsterdam:20261009T200000
DTSTAMP:20260423T132721
CREATED:20240111T162500Z
LAST-MODIFIED:20260129T230112Z
UID:565-1791554400-1791576000@wildro.nl
SUMMARY:Braderie Winkelweken Musselkanaal
DESCRIPTION:Braderie \nGrondplaats: € 6\,00 per strekkende meter\nKraam: € 45\,00 (excl. btw incl. grondplaats) per kraam \n(over grondplaats wordt geen btw berekend) \nExtra’s bij kraam:  (aangeven bij opmerkingen) \nExtra noklat € 2\,50 per stuk\nExtra set planken € 5\,00
URL:https://wildro.nl/event/braderie-winkelweken-musselkanaal-2/
CATEGORIES:Braderieën
END:VEVENT
BEGIN:VEVENT
DTSTART;TZID=Europe/Amsterdam:20261010T100000
DTEND;TZID=Europe/Amsterdam:20261010T170000
DTSTAMP:20260423T132721
CREATED:20240125T144755Z
LAST-MODIFIED:20260129T230513Z
UID:606-1791626400-1791651600@wildro.nl
SUMMARY:Braderie winkelcentrum Nobellaan Assen
DESCRIPTION:Braderie \nGrondplaats: € 6\,00 per strekkende meter\nKraam: € 40\,00 (excl. btw incl. grondplaats) per kraam \n(over grondplaats wordt geen btw berekend) \nExtra’s bij kraam:  (aangeven bij opmerkingen) \nExtra noklat € 2\,50 per stuk\nExtra set planken € 5\,00
URL:https://wildro.nl/event/braderie-winkelcentrum-nobellaan-assen-4-2-4/
CATEGORIES:Braderieën
END:VEVENT
BEGIN:VEVENT
DTSTART;TZID=UTC:20261011T100000
DTEND;TZID=UTC:20261011T160000
DTSTAMP:20260423T132721
CREATED:20240617T124836Z
LAST-MODIFIED:20260129T230626Z
UID:701-1791712800-1791734400@wildro.nl
SUMMARY:Braderie en vlooienmarkt Eurohal Zuidbroek
DESCRIPTION:Braderie \nGrondplaats: € 6\,00 per strekkende meter\nKraam: € 35\,00 (excl. btw incl. grondplaats) per kraam \nVlooienmarkt \nGrondplaats: 5 meter € 15\,00 10 meter € 25\,00\nKraam: € 25\,00 (incl. grondplaats) per kraam \n(0ver grondplaats wordt geen btw berekend)
URL:https://wildro.nl/event/braderie-zuidbroek/
CATEGORIES:Braderieën,Vlooienmarkten
END:VEVENT
BEGIN:VEVENT
DTSTART;TZID=Europe/Amsterdam:20261012T100000
DTEND;TZID=Europe/Amsterdam:20261012T170000
DTSTAMP:20260423T132721
CREATED:20240111T162933Z
LAST-MODIFIED:20260129T225852Z
UID:569-1791799200-1791824400@wildro.nl
SUMMARY:Braderie Jaarmarkt Centrum Dwingeloo
DESCRIPTION:Braderie \nGrondplaats: € 6\,00 per strekkende meter\nKraam: € 45\,00 (excl. btw incl. grondplaats) per kraam \n(over grondplaats wordt geen btw berekend) \nExtra’s bij kraam:  (aangeven bij opmerkingen) \nExtra noklat € 2\,50 per stuk\nExtra set planken € 5\,00
URL:https://wildro.nl/event/braderie-jaarmarkt-centrum-dwingeloo-2/
CATEGORIES:Braderieën
END:VEVENT
BEGIN:VEVENT
DTSTART;TZID=Europe/Amsterdam:20261014T100000
DTEND;TZID=Europe/Amsterdam:20261014T170000
DTSTAMP:20260423T132721
CREATED:20240111T163109Z
LAST-MODIFIED:20260129T230818Z
UID:571-1791972000-1791997200@wildro.nl
SUMMARY:Braderie Najaarsmarkt Centrum Oosterwolde
DESCRIPTION:Braderie \nGrondplaats: € 6\,00 per strekkende meter\nKraam: € 45\,00 (excl. btw incl. grondplaats) per kraam \n(over grondplaats wordt geen btw berekend) \nExtra’s bij kraam:  (aangeven bij opmerkingen) \nExtra noklat € 2\,50 per stuk\nExtra set planken € 5\,00
URL:https://wildro.nl/event/braderie-herfstmarkt-centrum-oosterwolde/
CATEGORIES:Braderieën
END:VEVENT
BEGIN:VEVENT
DTSTART;TZID=UTC:20261025T100000
DTEND;TZID=UTC:20261025T160000
DTSTAMP:20260423T132721
CREATED:20250114T183412Z
LAST-MODIFIED:20260129T230934Z
UID:842-1792922400-1792944000@wildro.nl
SUMMARY:Braderie en vlooienmarkt Eurohal Zuidbroek
DESCRIPTION:Braderie \nGrondplaats: € 6\,00 per strekkende meter\nKraam: € 35\,00 (excl. btw incl. grondplaats) per kraam \nVlooienmarkt \nGrondplaats: 5 meter € 15\,00 10 meter € 25\,00\nKraam: € 25\,00 (incl. grondplaats) per kraam \n(0ver grondplaats wordt geen btw berekend)
URL:https://wildro.nl/event/braderie-zuidbroek-2/
CATEGORIES:Braderieën,Vlooienmarkten
END:VEVENT
BEGIN:VEVENT
DTSTART;TZID=UTC:20261031T100000
DTEND;TZID=UTC:20261031T170000
DTSTAMP:20260423T132721
CREATED:20240110T132547Z
LAST-MODIFIED:20260129T231242Z
UID:370-1793440800-1793466000@wildro.nl
SUMMARY:Braderie winkelcentrum Nobellaan Assen
DESCRIPTION:Braderie \nGrondplaats: €6 per strekkende meter\nKraam: €40 (excl. btw incl. grondplaats) per kraam \n(over grondplaats wordt geen btw berekend) \nExtra’s bij kraam:  (aangeven bij opmerkingen) \nExtra noklat € 2\,50 per stuk\nExtra set planken € 5\,00
URL:https://wildro.nl/event/braderie-winkelcentrum-nobellaan-assen/
CATEGORIES:Braderieën
END:VEVENT
BEGIN:VEVENT
DTSTART;TZID=Europe/Amsterdam:20261104T100000
DTEND;TZID=Europe/Amsterdam:20261104T170000
DTSTAMP:20260423T132721
CREATED:20240205T191911Z
LAST-MODIFIED:20260129T231050Z
UID:612-1793786400-1793811600@wildro.nl
SUMMARY:Braderie Najaarsmarkt Centrum Assen
DESCRIPTION:Braderie \nGrondplaats: € 6\,00 per strekkende meter\nKraam: € 50\,00 (excl. btw incl. grondplaats) per kraam \n(over grondplaats wordt geen btw berekend) \nExtra’s bij kraam:  (aangeven bij opmerkingen) \nExtra noklat € 2\,50 per stuk\nExtra set planken € 5\,00
URL:https://wildro.nl/event/braderie-najaarsmarkt-centrum-assen/
CATEGORIES:Braderieën
END:VEVENT
BEGIN:VEVENT
DTSTART;TZID=UTC:20261108T100000
DTEND;TZID=UTC:20261108T160000
DTSTAMP:20260423T132721
CREATED:20240617T125020Z
LAST-MODIFIED:20260129T231803Z
UID:703-1794132000-1794153600@wildro.nl
SUMMARY:Braderie en vlooienmarkt Eurohal Zuidbroek
DESCRIPTION:Braderie \nGrondplaats: € 6\,00 per strekkende meter\nKraam: € 35\,00 (excl. btw incl. grondplaats) per kraam \nVlooienmarkt \nGrondplaats: 5 meter € 15\,00 10 meter € 25\,00\nKraam: € 25\,00 (incl. grondplaats) per kraam \n(0ver grondplaats wordt geen btw berekend)
URL:https://wildro.nl/event/braderie-zuidbroek-4/
CATEGORIES:Braderieën,Vlooienmarkten
END:VEVENT
BEGIN:VEVENT
DTSTART;TZID=Europe/Amsterdam:20261109T100000
DTEND;TZID=Europe/Amsterdam:20261109T170000
DTSTAMP:20260423T132721
CREATED:20240306T141904Z
LAST-MODIFIED:20260129T231512Z
UID:647-1794218400-1794243600@wildro.nl
SUMMARY:Braderie Ganzenmarkt Centrum Coevorden
DESCRIPTION:Braderie \nGrondplaats: € 6\,00 per strekkende meter\nKraam: € 50\,00 (excl. btw incl. grondplaats) per kraam \n(over grondplaats wordt geen btw berekend) \nExtra’s bij kraam:  (aangeven bij opmerkingen) \nExtra noklat € 2\,50 per stuk\nExtra set planken € 5\,00
URL:https://wildro.nl/event/braderie-ganzenmarkt-centrum-coevorden/
CATEGORIES:Braderieën
END:VEVENT
BEGIN:VEVENT
DTSTART;TZID=UTC:20261122T100000
DTEND;TZID=UTC:20261122T160000
DTSTAMP:20260423T132721
CREATED:20240617T125155Z
LAST-MODIFIED:20260129T231658Z
UID:705-1795341600-1795363200@wildro.nl
SUMMARY:Braderie en vlooienmarkt Eurohal Zuidbroek
DESCRIPTION:Braderie \nGrondplaats: € 6\,00 per strekkende meter\nKraam: € 35\,00 (excl. btw incl. grondplaats) per kraam \nVlooienmarkt \nGrondplaats: 5 meter € 15\,00 10 meter € 25\,00\nKraam: € 25\,00 (incl. grondplaats) per kraam \n(0ver grondplaats wordt geen btw berekend)
URL:https://wildro.nl/event/braderie-zuidbroek-3/
CATEGORIES:Braderieën,Vlooienmarkten
END:VEVENT
BEGIN:VEVENT
DTSTART;TZID=Europe/Amsterdam:20261128T100000
DTEND;TZID=Europe/Amsterdam:20261128T170000
DTSTAMP:20260423T132721
CREATED:20240125T144901Z
LAST-MODIFIED:20260129T231853Z
UID:608-1795860000-1795885200@wildro.nl
SUMMARY:Braderie winkelcentrum Nobellaan Assen
DESCRIPTION:Braderie \nGrondplaats: € 6\,00 per strekkende meter\nKraam: € 40\,00 (excl. btw incl. grondplaats) per kraam \n(over grondplaats wordt geen btw berekend) \nExtra’s bij kraam:  (aangeven bij opmerkingen) \nExtra noklat € 2\,50 per stuk\nExtra set planken € 5\,00
URL:https://wildro.nl/event/braderie-winkelcentrum-nobellaan-assen-4-2-5/
CATEGORIES:Braderieën
END:VEVENT
END:VCALENDAR