BEGIN:VCALENDAR
VERSION:2.0
PRODID:-//Wildro - ECPv6.2.9//NONSGML v1.0//EN
CALSCALE:GREGORIAN
METHOD:PUBLISH
X-WR-CALNAME:Wildro
X-ORIGINAL-URL:https://wildro.nl
X-WR-CALDESC:Evenementen voor Wildro
REFRESH-INTERVAL;VALUE=DURATION:PT1H
X-Robots-Tag:noindex
X-PUBLISHED-TTL:PT1H
BEGIN:VTIMEZONE
TZID:Europe/Amsterdam
BEGIN:DAYLIGHT
TZOFFSETFROM:+0100
TZOFFSETTO:+0200
TZNAME:CEST
DTSTART:20240331T010000
END:DAYLIGHT
BEGIN:STANDARD
TZOFFSETFROM:+0200
TZOFFSETTO:+0100
TZNAME:CET
DTSTART:20241027T010000
END:STANDARD
TZID:UTC
BEGIN:STANDARD
TZOFFSETFROM:+0000
TZOFFSETTO:+0000
TZNAME:UTC
DTSTART:20240101T000000
END:STANDARD
END:VTIMEZONE
BEGIN:VEVENT
DTSTART;TZID=Europe/Amsterdam:20240713T100000
DTEND;TZID=Europe/Amsterdam:20240713T170000
DTSTAMP:20260423T132936
CREATED:20240523T112614Z
LAST-MODIFIED:20240523T112733Z
UID:689-1720864800-1720890000@wildro.nl
SUMMARY:Braderie Boerenfair Oostermoerfeest Borger
DESCRIPTION:Braderie \nGrondplaats: € 10\,00 per strekkende meter\nKraam: € 50\,00 (excl. btw incl. grondplaats) per kraam
URL:https://wildro.nl/event/braderie-winkelcentrum-nobellaan-assen-4-2-7/
CATEGORIES:Braderieën
END:VEVENT
BEGIN:VEVENT
DTSTART;TZID=UTC:20240525T100000
DTEND;TZID=UTC:20240525T170000
DTSTAMP:20260423T132936
CREATED:20240110T134430Z
LAST-MODIFIED:20240110T145824Z
UID:382-1716631200-1716656400@wildro.nl
SUMMARY:Braderie winkelcentrum Nobellaan Assen
DESCRIPTION:Braderie \nGrondplaats: € 6\,00 per strekkende meter\nKraam: € 40\,00 (excl. btw incl. grondplaats) per kraam \n(over grondplaats wordt geen btw berekend)
URL:https://wildro.nl/event/braderie-winkelcentrum-nobellaan-assen-3-2/
CATEGORIES:Braderieën
END:VEVENT
BEGIN:VEVENT
DTSTART;TZID=Europe/Amsterdam:20240511T090000
DTEND;TZID=Europe/Amsterdam:20240511T170000
DTSTAMP:20260423T132936
CREATED:20240125T133824Z
LAST-MODIFIED:20240125T133824Z
UID:595-1715418000-1715446800@wildro.nl
SUMMARY:Groenmarkt Hoogeveen
DESCRIPTION:Braderie \nGrondplaats: € 6\,00 per strekkende meter\nKraam: € 40\,00 (excl. btw incl. grondplaats) per kraam \n(over grondplaats wordt geen btw berekend)
URL:https://wildro.nl/event/groenmarkt-hoogeveen/
CATEGORIES:Groenmarkt
END:VEVENT
BEGIN:VEVENT
DTSTART;TZID=UTC:20240427T080000
DTEND;TZID=UTC:20240427T170000
DTSTAMP:20260423T132936
CREATED:20240110T140140Z
LAST-MODIFIED:20240110T145453Z
UID:390-1714204800-1714237200@wildro.nl
SUMMARY:Braderie en vlooienmarkt Koningsdag Centrum Hoogeveen
DESCRIPTION:Braderie \nGrondplaats: € 6\,00 per strekkende meter\nKraam: € 40\,00 (excl. btw incl. grondplaats) per kraam \nVlooienmarkt \nGrondplaats: € 3\,00 per strekkende meter\nKraam: € 30\,00 (incl. grondplaats) per kraam \n(over grondplaats wordt geen btw berekend)
URL:https://wildro.nl/event/390/
CATEGORIES:Braderieën,Vlooienmarkten
END:VEVENT
BEGIN:VEVENT
DTSTART;TZID=Europe/Amsterdam:20240420T100000
DTEND;TZID=Europe/Amsterdam:20240420T170000
DTSTAMP:20260423T132936
CREATED:20240125T144454Z
LAST-MODIFIED:20240125T144527Z
UID:600-1713607200-1713632400@wildro.nl
SUMMARY:Braderie winkelcentrum Nobellaan Assen
DESCRIPTION:Braderie \nGrondplaats: € 6\,00 per strekkende meter\nKraam: € 40\,00 (excl. btw incl. grondplaats) per kraam \n(over grondplaats wordt geen btw berekend)
URL:https://wildro.nl/event/braderie-winkelcentrum-nobellaan-assen-4-2/
CATEGORIES:Braderieën
END:VEVENT
BEGIN:VEVENT
DTSTART;TZID=UTC:20240330T100000
DTEND;TZID=UTC:20240330T170000
DTSTAMP:20260423T132936
CREATED:20240110T133419Z
LAST-MODIFIED:20240110T145348Z
UID:372-1711792800-1711818000@wildro.nl
SUMMARY:Braderie winkelcentrum Nobellaan Assen
DESCRIPTION:Braderie \nGrondplaats: € 6\,00 per strekkende meter\nKraam: € 40\,00 (excl. btw incl. grondplaats) per kraam \n(over grondplaats wordt geen btw berekend)
URL:https://wildro.nl/event/braderie-winkelcentrum-nobellaan-assen-2/
CATEGORIES:Braderieën
END:VEVENT
BEGIN:VEVENT
DTSTART;TZID=UTC:20240324T100000
DTEND;TZID=UTC:20240324T160000
DTSTAMP:20260423T132936
CREATED:20240109T103019Z
LAST-MODIFIED:20240110T144254Z
UID:356-1711274400-1711296000@wildro.nl
SUMMARY:Braderie en vlooienmarkt Eurohal Zuidbroek
DESCRIPTION:Braderie \nGrondplaats: € 6\,00 per strekkende meter\nKraam: € 35\,00 (excl. btw incl. grondplaats) per kraam \nVlooienmarkt \nGrondplaats: 5 meter € 15\,00 10 meter € 25\,00\nKraam: € 25\,00 (incl. grondplaats) per kraam \n(0ver grondplaats wordt geen btw berekend)
URL:https://wildro.nl/event/braderie-dwingeloo-31-juli-2-2-3/
CATEGORIES:Braderieën,Vlooienmarkten
END:VEVENT
BEGIN:VEVENT
DTSTART;TZID=UTC:20240310T100000
DTEND;TZID=UTC:20240310T160000
DTSTAMP:20260423T132936
CREATED:20240109T103014Z
LAST-MODIFIED:20240110T144331Z
UID:355-1710064800-1710086400@wildro.nl
SUMMARY:Braderie en vlooienmarkt Eurohal Zuidbroek
DESCRIPTION:Braderie \nGrondplaats: € 6\,00 per strekkende meter\nKraam: € 35\,00 (excl. btw incl. grondplaats) per kraam \nVlooienmarkt \nGrondplaats: 5 meter € 15\,00 10 meter € 25\,00\nKraam: € 25\,00 (incl. grondplaats) per kraam \n(0ver grondplaats wordt geen btw berekend)
URL:https://wildro.nl/event/braderie-dwingeloo-31-juli-2-2-2/
CATEGORIES:Braderieën,Vlooienmarkten
END:VEVENT
BEGIN:VEVENT
DTSTART;TZID=UTC:20240225T100000
DTEND;TZID=UTC:20240225T160000
DTSTAMP:20260423T132936
CREATED:20240109T103006Z
LAST-MODIFIED:20240110T144418Z
UID:354-1708855200-1708876800@wildro.nl
SUMMARY:Braderie en vlooienmarkt Eurohal Zuidbroek
DESCRIPTION:Braderie \nGrondplaats: € 6\,00 per strekkende meter\nKraam: € 35\,00 (excl. btw incl. grondplaats) per kraam \nVlooienmarkt \nGrondplaats: 5 meter € 15\,00 10 meter € 25\,00\nKraam: € 25\,00 (incl. grondplaats) per kraam \n(0ver grondplaats wordt geen btw berekend)
URL:https://wildro.nl/event/braderie-dwingeloo-31-juli-2-2/
CATEGORIES:Braderieën,Vlooienmarkten
END:VEVENT
BEGIN:VEVENT
DTSTART;TZID=UTC:20240211T100000
DTEND;TZID=UTC:20240211T160000
DTSTAMP:20260423T132936
CREATED:20231121T104652Z
LAST-MODIFIED:20240110T144442Z
UID:233-1707645600-1707667200@wildro.nl
SUMMARY:Braderie en vlooienmarkt Eurohal Zuidbroek
DESCRIPTION:Braderie \nGrondplaats: € 6\,00 per strekkende meter\nKraam: € 35\,00 (excl. btw incl. grondplaats) per kraam \nVlooienmarkt \nGrondplaats: 5 meter € 15\,00 10 meter € 25\,00\nKraam: € 25\,00 (incl. grondplaats) per kraam \n(0ver grondplaats wordt geen btw berekend)
URL:https://wildro.nl/event/braderie-dwingeloo-31-juli-2/
CATEGORIES:Braderieën,Vlooienmarkten
END:VEVENT
END:VCALENDAR