BEGIN:VCALENDAR
VERSION:2.0
PRODID:-//Wildro - ECPv6.2.9//NONSGML v1.0//EN
CALSCALE:GREGORIAN
METHOD:PUBLISH
X-WR-CALNAME:Wildro
X-ORIGINAL-URL:https://wildro.nl
X-WR-CALDESC:Evenementen voor Wildro
REFRESH-INTERVAL;VALUE=DURATION:PT1H
X-Robots-Tag:noindex
X-PUBLISHED-TTL:PT1H
BEGIN:VTIMEZONE
TZID:Europe/Amsterdam
BEGIN:DAYLIGHT
TZOFFSETFROM:+0100
TZOFFSETTO:+0200
TZNAME:CEST
DTSTART:20260329T010000
END:DAYLIGHT
BEGIN:STANDARD
TZOFFSETFROM:+0200
TZOFFSETTO:+0100
TZNAME:CET
DTSTART:20261025T010000
END:STANDARD
TZID:UTC
BEGIN:STANDARD
TZOFFSETFROM:+0000
TZOFFSETTO:+0000
TZNAME:UTC
DTSTART:20260101T000000
END:STANDARD
END:VTIMEZONE
BEGIN:VEVENT
DTSTART;TZID=Europe/Amsterdam:20260613T100000
DTEND;TZID=Europe/Amsterdam:20260613T170000
DTSTAMP:20260423T000451
CREATED:20240125T144555Z
LAST-MODIFIED:20260129T220904Z
UID:602-1781344800-1781370000@wildro.nl
SUMMARY:Braderie winkelcentrum Nobellaan Assen
DESCRIPTION:Braderie \nGrondplaats: € 6\,00 per strekkende meter\nKraam: € 40\,00 (excl. btw incl. grondplaats) per kraam \n(over grondplaats wordt geen btw berekend) \nExtra’s bij kraam:  (aangeven bij opmerkingen) \nExtra noklat € 2\,50 per stuk\nExtra set planken € 5\,00
URL:https://wildro.nl/event/braderie-winkelcentrum-nobellaan-assen-4-2-2/
CATEGORIES:Braderieën
END:VEVENT
BEGIN:VEVENT
DTSTART;TZID=UTC:20260620T100000
DTEND;TZID=UTC:20260620T170000
DTSTAMP:20260423T000451
CREATED:20240110T144144Z
LAST-MODIFIED:20260129T221125Z
UID:412-1781949600-1781974800@wildro.nl
SUMMARY:Braderie en vlooienmarkt Centrum Noordscheschut
DESCRIPTION:Braderie \nGrondplaats: € 6\,00 per strekkende meter\nKraam: € 45\,00 (excl. btw incl. grondplaats) per kraam \nVlooienmarkt \nGrondplaats: € 3\,00 per strekkende meter\nKraam: € 30\,00 (incl. grondplaats) per kraam \n(over grondplaats wordt geen btw berekend) \nExtra’s bij kraam:  (aangeven bij opmerkingen) \nExtra noklat € 2\,50 per stuk\nExtra set planken € 5\,00
URL:https://wildro.nl/event/braderie-en-vlooienmarkt-centrum-noordscheschut/
CATEGORIES:Braderieën,Vlooienmarkten
END:VEVENT
BEGIN:VEVENT
DTSTART;TZID=UTC:20260708T100000
DTEND;TZID=UTC:20260708T170000
DTSTAMP:20260423T000451
CREATED:20240110T152417Z
LAST-MODIFIED:20260129T221058Z
UID:448-1783504800-1783530000@wildro.nl
SUMMARY:Braderie en vlooienmarkt Siepeldagen Centrum Dwingeloo
DESCRIPTION:Braderie \nGrondplaats: € 6\,00 per strekkende meter\nKraam: € 45\,00 (excl. btw incl. grondplaats) per kraam \nVlooienmarkt \nGrondplaats: € 3\,00 per strekkende meter\nKraam: € 30\,00 (incl. grondplaats) per kraam \n(over grondplaats wordt geen btw berekend) \nExtra’s bij kraam:  (aangeven bij opmerkingen) \nExtra noklat € 2\,50 per stuk\nExtra set planken € 5\,00
URL:https://wildro.nl/event/braderie-en-vlooienmarkt-siepeldagen-centrum-dwingeloo-2-2-2-2/
CATEGORIES:Braderieën,Vlooienmarkten
END:VEVENT
BEGIN:VEVENT
DTSTART;TZID=Europe/Amsterdam:20260709T100000
DTEND;TZID=Europe/Amsterdam:20260709T170000
DTSTAMP:20260423T000451
CREATED:20260129T225234Z
LAST-MODIFIED:20260227T121216Z
UID:1038-1783591200-1783616400@wildro.nl
SUMMARY:Braderie en vlooienmarkt Pulledagen Centrum Hoogeveen
DESCRIPTION:Braderie \nGrondplaats: € 10\,00 per strekkende meter\nKraam: € 50\,00 (excl. btw incl. grondplaats) per kraam \nVlooienmarkt \nGrondplaats: € 3\,00 per strekkende meter\nKraam: € 30\,00 (incl. grondplaats) per kraam \n(over grondplaats wordt geen btw berekend) \nExtra’s bij kraam:  (aangeven bij opmerkingen) \nExtra noklat € 2\,50 per stuk\nExtra set planken € 5\,00
URL:https://wildro.nl/event/braderie-en-vlooienmarkt-pulledagen-centrum-hoogeveen-2-3-2/
CATEGORIES:Braderieën,Vlooienmarkten
END:VEVENT
BEGIN:VEVENT
DTSTART;TZID=Europe/Amsterdam:20260711T100000
DTEND;TZID=Europe/Amsterdam:20260711T170000
DTSTAMP:20260423T000451
CREATED:20241117T113003Z
LAST-MODIFIED:20260129T221217Z
UID:746-1783764000-1783789200@wildro.nl
SUMMARY:Jaarmarkt Centrum Zuidwolde (DR) - Kar ga door
DESCRIPTION:Jaarmarkt in het Centrum van Zuidwolde (DR)  tijdens het kar ga door festival \nBraderie \nGrondplaats: € 6\,00 per strekkende meter\nKraam: € 45\,00 (excl. btw incl. grondplaats) per kraam \n(over grondplaats wordt geen btw berekend) \nExtra’s bij kraam:  (aangeven bij opmerkingen) \nExtra noklat € 2\,50 per stuk\nExtra set planken € 5\,00
URL:https://wildro.nl/event/lentefair-linde-2/
CATEGORIES:Braderieën
END:VEVENT
BEGIN:VEVENT
DTSTART;TZID=Europe/Amsterdam:20260712T100000
DTEND;TZID=Europe/Amsterdam:20260712T170000
DTSTAMP:20260423T000451
CREATED:20250114T172922Z
LAST-MODIFIED:20260227T121936Z
UID:789-1783850400-1783875600@wildro.nl
SUMMARY:Braderie\, hobbymarkt en fair Oostermoerfeest Gieten
DESCRIPTION:Braderie\, hobbymarkt en fair Oostermoerfeest Gieten \nGrondplaats: € 6\,00 per strekkende meter\nKraam: € 45\,00 (excl. btw incl. grondplaats) per kraam \n(over grondplaats wordt geen btw berekend)
URL:https://wildro.nl/event/braderie-vlooien-hobby-kunst-en-boerenmarkt-oostermoerfeest-gasselte/
CATEGORIES:Boekenmarkt,Braderieën,Platenmarkt,Vlooienmarkten
END:VEVENT
BEGIN:VEVENT
DTSTART;TZID=Europe/Amsterdam:20260714T100000
DTEND;TZID=Europe/Amsterdam:20260714T163000
DTSTAMP:20260423T000451
CREATED:20240111T144155Z
LAST-MODIFIED:20260212T164156Z
UID:499-1784023200-1784046600@wildro.nl
SUMMARY:Braderie en vlooienmarkt Zomermarkt Centrum Ruinen
DESCRIPTION:Braderie \nGrondplaats: € 6\,00 per strekkende meter\nKraam: € 45\,00 (excl. btw incl. grondplaats) per kraam \nVlooienmarkt \nGrondplaats: € 3\,00 per strekkende meter\nKraam: € 30\,00 (incl. grondplaats) per kraam \n(over grondplaats wordt geen btw berekend) \nExtra’s bij kraam:  (aangeven bij opmerkingen) \nExtra noklat € 2\,50 per stuk\nExtra set planken € 5\,00
URL:https://wildro.nl/event/braderie-en-vlooienmarkt-zomermarkt-centrum-ruinen/
CATEGORIES:Braderieën,Vlooienmarkten
END:VEVENT
BEGIN:VEVENT
DTSTART;TZID=UTC:20260715T100000
DTEND;TZID=UTC:20260715T170000
DTSTAMP:20260423T000451
CREATED:20240110T152333Z
LAST-MODIFIED:20260129T221314Z
UID:446-1784109600-1784134800@wildro.nl
SUMMARY:Braderie en vlooienmarkt Siepeldagen Centrum Dwingeloo
DESCRIPTION:Braderie \nGrondplaats: € 6\,00 per strekkende meter\nKraam: € 45\,00 (excl. btw incl. grondplaats) per kraam \nVlooienmarkt \nGrondplaats: € 3\,00 per strekkende meter\nKraam: € 30\,00 (incl. grondplaats) per kraam \n(over grondplaats wordt geen btw berekend) \nExtra’s bij kraam:  (aangeven bij opmerkingen) \nExtra noklat € 2\,50 per stuk\nExtra set planken € 5\,00
URL:https://wildro.nl/event/braderie-en-vlooienmarkt-siepeldagen-centrum-dwingeloo-2-2-2/
CATEGORIES:Braderieën,Vlooienmarkten
END:VEVENT
BEGIN:VEVENT
DTSTART;TZID=Europe/Amsterdam:20260716T100000
DTEND;TZID=Europe/Amsterdam:20260716T170000
DTSTAMP:20260423T000451
CREATED:20240111T153508Z
LAST-MODIFIED:20260129T221417Z
UID:527-1784196000-1784221200@wildro.nl
SUMMARY:Braderie en vlooienmarkt Pulledagen Centrum Hoogeveen
DESCRIPTION:Braderie \nGrondplaats: € 10\,00 per strekkende meter\nKraam: € 50\,00 (excl. btw incl. grondplaats) per kraam \nVlooienmarkt \nGrondplaats: € 3\,00 per strekkende meter\nKraam: € 30\,00 (incl. grondplaats) per kraam \n(over grondplaats wordt geen btw berekend) \nExtra’s bij kraam:  (aangeven bij opmerkingen) \nExtra noklat € 2\,50 per stuk\nExtra set planken € 5\,00
URL:https://wildro.nl/event/braderie-en-vlooienmarkt-pulledagen-centrum-hoogeveen-2-5/
CATEGORIES:Braderieën,Vlooienmarkten
END:VEVENT
BEGIN:VEVENT
DTSTART;TZID=Europe/Amsterdam:20260720T100000
DTEND;TZID=Europe/Amsterdam:20260720T170000
DTSTAMP:20260423T000451
CREATED:20240111T154059Z
LAST-MODIFIED:20260217T164535Z
UID:531-1784541600-1784566800@wildro.nl
SUMMARY:Braderie en vlooienmarkt Zomermarkt Centrum Oosterwolde
DESCRIPTION:Braderie \nGrondplaats: € 6\,00 per strekkende meter\nKraam: € 45\,00 (excl. btw incl. grondplaats) per kraam \nVlooienmarkt \nGrondplaats: € 3\,00 per strekkende meter\nKraam: € 30\,00 (incl. grondplaats) per kraam \n(over grondplaats wordt geen btw berekend) \nExtra’s bij kraam:  (aangeven bij opmerkingen) \nExtra noklat € 2\,50 per stuk\nExtra set planken € 5\,00
URL:https://wildro.nl/event/braderie-en-vlooienmarkt-zomermarkt-centrum-oosterwolde/
CATEGORIES:Braderieën,Vlooienmarkten
END:VEVENT
BEGIN:VEVENT
DTSTART;TZID=Europe/Amsterdam:20260721T100000
DTEND;TZID=Europe/Amsterdam:20260721T163000
DTSTAMP:20260423T000451
CREATED:20260212T164200Z
LAST-MODIFIED:20260212T164228Z
UID:1066-1784628000-1784651400@wildro.nl
SUMMARY:Braderie en vlooienmarkt Zomermarkt Centrum Ruinen
DESCRIPTION:Braderie \nGrondplaats: € 6\,00 per strekkende meter\nKraam: € 45\,00 (excl. btw incl. grondplaats) per kraam \nVlooienmarkt \nGrondplaats: € 3\,00 per strekkende meter\nKraam: € 30\,00 (incl. grondplaats) per kraam \n(over grondplaats wordt geen btw berekend) \nExtra’s bij kraam:  (aangeven bij opmerkingen) \nExtra noklat € 2\,50 per stuk\nExtra set planken € 5\,00
URL:https://wildro.nl/event/braderie-en-vlooienmarkt-zomermarkt-centrum-ruinen-2/
CATEGORIES:Braderieën,Vlooienmarkten
END:VEVENT
BEGIN:VEVENT
DTSTART;TZID=UTC:20260722T100000
DTEND;TZID=UTC:20260722T170000
DTSTAMP:20260423T000451
CREATED:20240110T151440Z
LAST-MODIFIED:20260129T221539Z
UID:440-1784714400-1784739600@wildro.nl
SUMMARY:Braderie en vlooienmarkt Siepeldagen Centrum Dwingeloo
DESCRIPTION:Braderie \nGrondplaats: € 6\,00 per strekkende meter\nKraam: € 45\,00 (excl. btw incl. grondplaats) per kraam \nVlooienmarkt \nGrondplaats: € 3\,00 per strekkende meter\nKraam: € 30\,00 (incl. grondplaats) per kraam \n(over grondplaats wordt geen btw berekend) \nExtra’s bij kraam:  (aangeven bij opmerkingen) \nExtra noklat € 2\,50 per stuk\nExtra set planken € 5\,00
URL:https://wildro.nl/event/braderie-en-vlooienmarkt-siepeldagen-centrum-dwingeloo-2-2/
CATEGORIES:Braderieën,Vlooienmarkten
END:VEVENT
BEGIN:VEVENT
DTSTART;TZID=Europe/Amsterdam:20260723T100000
DTEND;TZID=Europe/Amsterdam:20260723T170000
DTSTAMP:20260423T000451
CREATED:20240111T145610Z
LAST-MODIFIED:20260129T221656Z
UID:511-1784800800-1784826000@wildro.nl
SUMMARY:Braderie en vlooienmarkt Pulledagen Centrum Hoogeveen
DESCRIPTION:Braderie \nGrondplaats: € 10\,00 per strekkende meter\nKraam: € 50\,00 (excl. btw incl. grondplaats) per kraam \nVlooienmarkt \nGrondplaats: € 3\,00 per strekkende meter\nKraam: € 30\,00 (incl. grondplaats) per kraam \n(over grondplaats wordt geen btw berekend) \nExtra’s bij kraam:  (aangeven bij opmerkingen) \nExtra noklat € 2\,50 per stuk\nExtra set planken € 5\,00
URL:https://wildro.nl/event/braderie-en-vlooienmarkt-pulledagen-centrum-hoogeveen/
CATEGORIES:Braderieën,Vlooienmarkten
END:VEVENT
BEGIN:VEVENT
DTSTART;TZID=Europe/Amsterdam:20260725T100000
DTEND;TZID=Europe/Amsterdam:20260725T170000
DTSTAMP:20260423T000451
CREATED:20240111T153836Z
LAST-MODIFIED:20260212T164646Z
UID:529-1784973600-1784998800@wildro.nl
SUMMARY:Braderie Piekiesmarkt Centrum Coevorden
DESCRIPTION:Braderie \nGrondplaats: € 6\,00 per strekkende meter\nKraam: € 45\,00 (excl. btw incl. grondplaats) per kraam \nExtra’s bij kraam:  (aangeven bij opmerkingen) \nExtra noklat € 2\,50 per stuk\nExtra set planken € 5\,00
URL:https://wildro.nl/event/braderie-piekiesmarkt-centrum-coevorden/
CATEGORIES:Braderieën
END:VEVENT
BEGIN:VEVENT
DTSTART;TZID=Europe/Amsterdam:20260727T100000
DTEND;TZID=Europe/Amsterdam:20260727T170000
DTSTAMP:20260423T000451
CREATED:20240111T154154Z
LAST-MODIFIED:20260217T164707Z
UID:533-1785146400-1785171600@wildro.nl
SUMMARY:Braderie en vlooienmarkt Zomermarkt Centrum Oosterwolde
DESCRIPTION:Braderie \nGrondplaats: € 6\,00 per strekkende meter\nKraam: € 45\,00 (excl. btw incl. grondplaats) per kraam \nVlooienmarkt \nGrondplaats: € 3\,00 per strekkende meter\nKraam: € 30\,00 (incl. grondplaats) per kraam \n(over grondplaats wordt geen btw berekend) \nExtra’s bij kraam:  (aangeven bij opmerkingen) \nExtra noklat € 2\,50 per stuk\nExtra set planken € 5\,00
URL:https://wildro.nl/event/braderie-en-vlooienmarkt-zomermarkt-centrum-oosterwolde-2/
CATEGORIES:Braderieën,Vlooienmarkten
END:VEVENT
BEGIN:VEVENT
DTSTART;TZID=Europe/Amsterdam:20260728T100000
DTEND;TZID=Europe/Amsterdam:20260728T163000
DTSTAMP:20260423T000451
CREATED:20260212T164234Z
LAST-MODIFIED:20260212T164255Z
UID:1068-1785232800-1785256200@wildro.nl
SUMMARY:Braderie en vlooienmarkt Zomermarkt Centrum Ruinen
DESCRIPTION:Braderie \nGrondplaats: € 6\,00 per strekkende meter\nKraam: € 45\,00 (excl. btw incl. grondplaats) per kraam \nVlooienmarkt \nGrondplaats: € 3\,00 per strekkende meter\nKraam: € 30\,00 (incl. grondplaats) per kraam \n(over grondplaats wordt geen btw berekend) \nExtra’s bij kraam:  (aangeven bij opmerkingen) \nExtra noklat € 2\,50 per stuk\nExtra set planken € 5\,00
URL:https://wildro.nl/event/braderie-en-vlooienmarkt-zomermarkt-centrum-ruinen-2-2/
CATEGORIES:Braderieën,Vlooienmarkten
END:VEVENT
BEGIN:VEVENT
DTSTART;TZID=UTC:20260729T100000
DTEND;TZID=UTC:20260729T170000
DTSTAMP:20260423T000451
CREATED:20240110T151616Z
LAST-MODIFIED:20260129T222042Z
UID:442-1785319200-1785344400@wildro.nl
SUMMARY:Braderie en vlooienmarkt Siepeldagen Centrum Dwingeloo
DESCRIPTION:Braderie \nGrondplaats: € 6\,00 per strekkende meter\nKraam: € 45\,00 (excl. btw incl. grondplaats) per kraam \nVlooienmarkt \nGrondplaats: € 3\,00 per strekkende meter\nKraam: € 30\,00 (incl. grondplaats) per kraam \n(over grondplaats wordt geen btw berekend) \nExtra’s bij kraam:  (aangeven bij opmerkingen) \nExtra noklat € 2\,50 per stuk\nExtra set planken € 5\,00
URL:https://wildro.nl/event/braderie-en-vlooienmarkt-siepeldagen-centrum-dwingeloo-2-3/
CATEGORIES:Braderieën,Vlooienmarkten
END:VEVENT
BEGIN:VEVENT
DTSTART;TZID=Europe/Amsterdam:20260730T100000
DTEND;TZID=Europe/Amsterdam:20260730T170000
DTSTAMP:20260423T000451
CREATED:20240111T153157Z
LAST-MODIFIED:20260129T221840Z
UID:525-1785405600-1785430800@wildro.nl
SUMMARY:Braderie en vlooienmarkt Pulledagen Centrum Hoogeveen
DESCRIPTION:Braderie \nGrondplaats: € 10\,00 per strekkende meter\nKraam: € 50\,00 (excl. btw incl. grondplaats) per kraam \nVlooienmarkt \nGrondplaats: € 3\,00 per strekkende meter\nKraam: € 30\,00 (incl. grondplaats) per kraam \n(over grondplaats wordt geen btw berekend) \nExtra’s bij kraam:  (aangeven bij opmerkingen) \nExtra noklat € 2\,50 per stuk\nExtra set planken € 5\,00
URL:https://wildro.nl/event/braderie-en-vlooienmarkt-pulledagen-centrum-hoogeveen-2-4/
CATEGORIES:Braderieën,Vlooienmarkten
END:VEVENT
BEGIN:VEVENT
DTSTART;TZID=Europe/Amsterdam:20260731T100000
DTEND;TZID=Europe/Amsterdam:20260731T170000
DTSTAMP:20260423T000451
CREATED:20240111T154845Z
LAST-MODIFIED:20260129T222009Z
UID:539-1785492000-1785517200@wildro.nl
SUMMARY:Braderie en vlooienmarkt Jaarmarkt Centrum Dedemsvaart
DESCRIPTION:Braderie \nGrondplaats: € 6\,00 per strekkende meter\nKraam: € 45\,00 (excl. btw incl. grondplaats) per kraam \nVlooienmarkt \nGrondplaats: € 3\,00 per strekkende meter\nKraam: € 30\,00 (incl. grondplaats) per kraam \n(over grondplaats wordt geen btw berekend) \nExtra’s bij kraam:  (aangeven bij opmerkingen) \nExtra noklat € 2\,50 per stuk\nExtra set planken € 5\,00
URL:https://wildro.nl/event/braderie-en-vlooienmarkt-dedemsvaria-dedemsvaart/
CATEGORIES:Braderieën,Vlooienmarkten
END:VEVENT
BEGIN:VEVENT
DTSTART;TZID=Europe/Amsterdam:20260801T100000
DTEND;TZID=Europe/Amsterdam:20260801T170000
DTSTAMP:20260423T000451
CREATED:20240111T155411Z
LAST-MODIFIED:20260129T222227Z
UID:541-1785578400-1785603600@wildro.nl
SUMMARY:Braderie en vlooienmarkt Jaarmarkt Centrum Ruinen
DESCRIPTION:Braderie \nGrondplaats: € 6\,00 per strekkende meter\nKraam: € 45\,00 (excl. btw incl. grondplaats) per kraam \nVlooienmarkt \nGrondplaats: € 3\,00 per strekkende meter\nKraam: € 30\,00 (incl. grondplaats) per kraam \n(over grondplaats wordt geen btw berekend) \nExtra’s bij kraam:  (aangeven bij opmerkingen) \nExtra noklat € 2\,50 per stuk\nExtra set planken € 5\,00
URL:https://wildro.nl/event/braderie-en-vlooienmarkt-jaarmarkt-centrum-ruinen/
CATEGORIES:Braderieën,Vlooienmarkten
END:VEVENT
BEGIN:VEVENT
DTSTART;TZID=Europe/Amsterdam:20260802T100000
DTEND;TZID=Europe/Amsterdam:20260802T170000
DTSTAMP:20260423T000451
CREATED:20240111T155727Z
LAST-MODIFIED:20260129T222325Z
UID:543-1785664800-1785690000@wildro.nl
SUMMARY:Braderie en vlooienmarkt Zomermarkt Centrum Gieten
DESCRIPTION:Braderie \nGrondplaats: € 6\,00 per strekkende meter\nKraam: € 45\,00 (excl. btw incl. grondplaats) per kraam \nVlooienmarkt \nGrondplaats: € 3\,00 per strekkende meter\nKraam: € 30\,00 (incl. grondplaats) per kraam \n(over grondplaats wordt geen btw berekend) \nExtra’s bij kraam:  (aangeven bij opmerkingen) \nExtra noklat € 2\,50 per stuk\nExtra set planken € 5\,00
URL:https://wildro.nl/event/braderie-en-vlooienmarkt-zomermarkt-centrum-gieten/
CATEGORIES:Braderieën,Vlooienmarkten
END:VEVENT
BEGIN:VEVENT
DTSTART;TZID=Europe/Amsterdam:20260804T100000
DTEND;TZID=Europe/Amsterdam:20260804T163000
DTSTAMP:20260423T000451
CREATED:20260212T164303Z
LAST-MODIFIED:20260212T164326Z
UID:1070-1785837600-1785861000@wildro.nl
SUMMARY:Braderie en vlooienmarkt Zomermarkt Centrum Ruinen
DESCRIPTION:Braderie \nGrondplaats: € 6\,00 per strekkende meter\nKraam: € 45\,00 (excl. btw incl. grondplaats) per kraam \nVlooienmarkt \nGrondplaats: € 3\,00 per strekkende meter\nKraam: € 30\,00 (incl. grondplaats) per kraam \n(over grondplaats wordt geen btw berekend) \nExtra’s bij kraam:  (aangeven bij opmerkingen) \nExtra noklat € 2\,50 per stuk\nExtra set planken € 5\,00
URL:https://wildro.nl/event/braderie-en-vlooienmarkt-zomermarkt-centrum-ruinen-2-2-2/
CATEGORIES:Braderieën,Vlooienmarkten
END:VEVENT
BEGIN:VEVENT
DTSTART;TZID=UTC:20260805T100000
DTEND;TZID=UTC:20260805T170000
DTSTAMP:20260423T000451
CREATED:20240110T144903Z
LAST-MODIFIED:20260129T222438Z
UID:418-1785924000-1785949200@wildro.nl
SUMMARY:Braderie en vlooienmarkt Siepeldagen Centrum Dwingeloo
DESCRIPTION:Braderie \nGrondplaats: € 6\,00 per strekkende meter\nKraam: € 45\,00 (excl. btw incl. grondplaats) per kraam \nVlooienmarkt \nGrondplaats: € 3\,00 per strekkende meter\nKraam: € 30\,00 (incl. grondplaats) per kraam \n(over grondplaats wordt geen btw berekend) \nExtra’s bij kraam:  (aangeven bij opmerkingen) \nExtra noklat € 2\,50 per stuk\nExtra set planken € 5\,00
URL:https://wildro.nl/event/braderie-en-vlooienmarkt-siepeldagen-centrum-dwingeloo/
CATEGORIES:Braderieën,Vlooienmarkten
END:VEVENT
BEGIN:VEVENT
DTSTART;TZID=Europe/Amsterdam:20260806T100000
DTEND;TZID=Europe/Amsterdam:20260806T170000
DTSTAMP:20260423T000451
CREATED:20240111T150547Z
LAST-MODIFIED:20260129T222950Z
UID:513-1786010400-1786035600@wildro.nl
SUMMARY:Braderie en vlooienmarkt Pulledagen Centrum Hoogeveen
DESCRIPTION:Braderie \nGrondplaats: € 10\,00 per strekkende meter\nKraam: € 50\,00 (excl. btw incl. grondplaats) per kraam \nVlooienmarkt \nGrondplaats: € 3\,00 per strekkende meter\nKraam: € 30\,00 (incl. grondplaats) per kraam \n(over grondplaats wordt geen btw berekend) \nExtra’s bij kraam:  (aangeven bij opmerkingen) \nExtra noklat € 2\,50 per stuk\nExtra set planken € 5\,00
URL:https://wildro.nl/event/braderie-en-vlooienmarkt-pulledagen-centrum-hoogeveen-2/
CATEGORIES:Braderieën,Vlooienmarkten
END:VEVENT
BEGIN:VEVENT
DTSTART;TZID=Europe/Amsterdam:20260810T100000
DTEND;TZID=Europe/Amsterdam:20260810T170000
DTSTAMP:20260423T000451
CREATED:20240111T154334Z
LAST-MODIFIED:20260217T164836Z
UID:535-1786356000-1786381200@wildro.nl
SUMMARY:Braderie en vlooienmarkt Zomermarkt Centrum Oosterwolde
DESCRIPTION:Braderie \nGrondplaats: € 6\,00 per strekkende meter\nKraam: € 45\,00 (excl. btw incl. grondplaats) per kraam \nVlooienmarkt \nGrondplaats: € 3\,00 per strekkende meter\nKraam: € 30\,00 (incl. grondplaats) per kraam \n(over grondplaats wordt geen btw berekend) \nExtra’s bij kraam:  (aangeven bij opmerkingen) \nExtra noklat € 2\,50 per stuk\nExtra set planken € 5\,00
URL:https://wildro.nl/event/braderie-en-vlooienmarkt-zomermarkt-centrum-oosterwolde-2-2/
CATEGORIES:Braderieën,Vlooienmarkten
END:VEVENT
BEGIN:VEVENT
DTSTART;TZID=UTC:20260812T100000
DTEND;TZID=UTC:20260812T170000
DTSTAMP:20260423T000451
CREATED:20240110T150617Z
LAST-MODIFIED:20260129T223340Z
UID:437-1786528800-1786554000@wildro.nl
SUMMARY:Braderie en vlooienmarkt Siepeldagen Centrum Dwingeloo
DESCRIPTION:Braderie \nGrondplaats: € 6\,00 per strekkende meter\nKraam: € 45\,00 (excl. btw incl. grondplaats) per kraam \nVlooienmarkt \nGrondplaats: € 3\,00 per strekkende meter\nKraam: € 30\,00 (incl. grondplaats) per kraam \n(over grondplaats wordt geen btw berekend) \nExtra’s bij kraam:  (aangeven bij opmerkingen) \nExtra noklat € 2\,50 per stuk\nExtra set planken € 5\,00
URL:https://wildro.nl/event/braderie-en-vlooienmarkt-siepeldagen-centrum-dwingeloo-2/
CATEGORIES:Braderieën,Vlooienmarkten
END:VEVENT
BEGIN:VEVENT
DTSTART;TZID=Europe/Amsterdam:20260813T100000
DTEND;TZID=Europe/Amsterdam:20260813T170000
DTSTAMP:20260423T000451
CREATED:20240111T150744Z
LAST-MODIFIED:20260129T223418Z
UID:517-1786615200-1786640400@wildro.nl
SUMMARY:Braderie en vlooienmarkt Pulledagen Centrum Hoogeveen
DESCRIPTION:Braderie \nGrondplaats: € 10\,00 per strekkende meter\nKraam: € 50\,00 (excl. btw incl. grondplaats) per kraam \nVlooienmarkt \nGrondplaats: € 3\,00 per strekkende meter\nKraam: € 30\,00 (incl. grondplaats) per kraam \n(over grondplaats wordt geen btw berekend) \nExtra’s bij kraam:  (aangeven bij opmerkingen) \nExtra noklat € 2\,50 per stuk\nExtra set planken € 5\,00
URL:https://wildro.nl/event/braderie-en-vlooienmarkt-pulledagen-centrum-hoogeveen-2-2/
CATEGORIES:Braderieën,Vlooienmarkten
END:VEVENT
BEGIN:VEVENT
DTSTART;TZID=Europe/Amsterdam:20260815T100000
DTEND;TZID=Europe/Amsterdam:20260815T170000
DTSTAMP:20260423T000451
CREATED:20240111T143533Z
LAST-MODIFIED:20260212T164825Z
UID:497-1786788000-1786813200@wildro.nl
SUMMARY:Braderie en vlooienmarkt Zomermarkt Centrum Coevorden
DESCRIPTION:Braderie \nGrondplaats: € 6\,00 per strekkende meter\nKraam: € 45\,00 (excl. btw incl. grondplaats) per kraam \nVlooienmarkt \nGrondplaats: € 3\,00 per strekkende meter\nKraam: € 30\,00 (incl. grondplaats) per kraam \n(over grondplaats wordt geen btw berekend) \nExtra’s bij kraam:  (aangeven bij opmerkingen) \nExtra noklat € 2\,50 per stuk\nExtra set planken € 5\,00
URL:https://wildro.nl/event/braderie-en-vlooienmarkt-centrum-coevorden/
CATEGORIES:Braderieën,Vlooienmarkten
END:VEVENT
BEGIN:VEVENT
DTSTART;TZID=Europe/Amsterdam:20260817T100000
DTEND;TZID=Europe/Amsterdam:20260817T170000
DTSTAMP:20260423T000451
CREATED:20240111T154506Z
LAST-MODIFIED:20260217T164943Z
UID:537-1786960800-1786986000@wildro.nl
SUMMARY:Braderie en vlooienmarkt Zomermarkt Centrum Oosterwolde
DESCRIPTION:Braderie \nGrondplaats: € 6\,00 per strekkende meter\nKraam: € 45\,00 (excl. btw incl. grondplaats) per kraam \nVlooienmarkt \nGrondplaats: € 3\,00 per strekkende meter\nKraam: € 30\,00 (incl. grondplaats) per kraam \n(over grondplaats wordt geen btw berekend) \nExtra’s bij kraam:  (aangeven bij opmerkingen) \nExtra noklat € 2\,50 per stuk\nExtra set planken € 5\,00
URL:https://wildro.nl/event/braderie-en-vlooienmarkt-zomermarkt-centrum-oosterwolde-2-3/
CATEGORIES:Braderieën,Vlooienmarkten
END:VEVENT
BEGIN:VEVENT
DTSTART;TZID=UTC:20260819T100000
DTEND;TZID=UTC:20260819T170000
DTSTAMP:20260423T000451
CREATED:20240110T152711Z
LAST-MODIFIED:20260129T223719Z
UID:454-1787133600-1787158800@wildro.nl
SUMMARY:Braderie en vlooienmarkt Siepeldagen Centrum Dwingeloo
DESCRIPTION:Braderie \nGrondplaats: € 6\,00 per strekkende meter\nKraam: € 45\,00 (excl. btw incl. grondplaats) per kraam \nVlooienmarkt \nGrondplaats: € 3\,00 per strekkende meter\nKraam: € 30\,00 (incl. grondplaats) per kraam \n(over grondplaats wordt geen btw berekend) \nExtra’s bij kraam:  (aangeven bij opmerkingen) \nExtra noklat € 2\,50 per stuk\nExtra set planken € 5\,00
URL:https://wildro.nl/event/braderie-en-vlooienmarkt-siepeldagen-centrum-dwingeloo-2-2-3/
CATEGORIES:Braderieën,Vlooienmarkten
END:VEVENT
END:VCALENDAR