BEGIN:VCALENDAR
VERSION:2.0
PRODID:-//Wildro - ECPv6.2.9//NONSGML v1.0//EN
CALSCALE:GREGORIAN
METHOD:PUBLISH
X-WR-CALNAME:Wildro
X-ORIGINAL-URL:https://wildro.nl
X-WR-CALDESC:Evenementen voor Wildro
REFRESH-INTERVAL;VALUE=DURATION:PT1H
X-Robots-Tag:noindex
X-PUBLISHED-TTL:PT1H
BEGIN:VTIMEZONE
TZID:Europe/Amsterdam
BEGIN:DAYLIGHT
TZOFFSETFROM:+0100
TZOFFSETTO:+0200
TZNAME:CEST
DTSTART:20250330T010000
END:DAYLIGHT
BEGIN:STANDARD
TZOFFSETFROM:+0200
TZOFFSETTO:+0100
TZNAME:CET
DTSTART:20251026T010000
END:STANDARD
BEGIN:DAYLIGHT
TZOFFSETFROM:+0100
TZOFFSETTO:+0200
TZNAME:CEST
DTSTART:20260329T010000
END:DAYLIGHT
BEGIN:STANDARD
TZOFFSETFROM:+0200
TZOFFSETTO:+0100
TZNAME:CET
DTSTART:20261025T010000
END:STANDARD
TZID:UTC
BEGIN:STANDARD
TZOFFSETFROM:+0000
TZOFFSETTO:+0000
TZNAME:UTC
DTSTART:20250101T000000
END:STANDARD
END:VTIMEZONE
BEGIN:VEVENT
DTSTART;TZID=Europe/Amsterdam:20260422T100000
DTEND;TZID=Europe/Amsterdam:20260422T170000
DTSTAMP:20260423T000145
CREATED:20240205T191940Z
LAST-MODIFIED:20260129T215219Z
UID:614-1776852000-1776877200@wildro.nl
SUMMARY:Braderie Voorjaarsmarkt Centrum Assen
DESCRIPTION:Braderie \nGrondplaats: € 6\,00 per strekkende meter\nKraam: € 50\,00 (excl. btw incl. grondplaats) per kraam \n(over grondplaats wordt geen btw berekend) \nExtra’s bij kraam:  (aangeven bij opmerkingen) \nExtra noklat € 2\,50 per stuk\nExtra set planken € 5\,00
URL:https://wildro.nl/event/braderie-voorjaarsmarkt-centrum-assen-2/
CATEGORIES:Braderieën
END:VEVENT
BEGIN:VEVENT
DTSTART;TZID=Europe/Amsterdam:20260412T110000
DTEND;TZID=Europe/Amsterdam:20260412T170000
DTSTAMP:20260423T000145
CREATED:20240227T120934Z
LAST-MODIFIED:20260129T215153Z
UID:625-1775991600-1776013200@wildro.nl
SUMMARY:Braderie en vlooienmarkt Voorjaarsmarkt Beilen
DESCRIPTION:Braderie \nGrondplaats: € 6\,00 per strekkende meter\nKraam: € 45\,00 (excl. btw incl. grondplaats) per kraam \nVlooienmarkt \nGrondplaats: € 3\,00 per strekkende meter\nKraam: € 30\,00 (incl. grondplaats) per kraam \n(over grondplaats wordt geen btw berekend) \nExtra’s bij kraam:  (aangeven bij opmerkingen) \nExtra noklat € 2\,50 per stuk\nExtra set planken € 5\,00
URL:https://wildro.nl/event/braderie-en-vlooienmarkt-voorjaarsmarkt-beilen/
CATEGORIES:Braderieën,Vlooienmarkten
END:VEVENT
BEGIN:VEVENT
DTSTART;TZID=UTC:20260405T100000
DTEND;TZID=UTC:20260405T160000
DTSTAMP:20260423T000145
CREATED:20251023T121415Z
LAST-MODIFIED:20251023T121530Z
UID:974-1775383200-1775404800@wildro.nl
SUMMARY:Braderie en vlooienmarkt Eurohal Zuidbroek 1e paasdag
DESCRIPTION:Braderie \nGrondplaats: € 6\,00 per strekkende meter\nKraam: € 35\,00 (excl. btw incl. grondplaats) per kraam \nVlooienmarkt \nGrondplaats: 5 meter € 15\,00 10 meter € 25\,00\nKraam: € 25\,00 (incl. grondplaats) per kraam \n(0ver grondplaats wordt geen btw berekend)
URL:https://wildro.nl/event/braderie-zuidbroek1epaasdag/
CATEGORIES:Braderieën,Vlooienmarkten
END:VEVENT
BEGIN:VEVENT
DTSTART;TZID=Europe/Amsterdam:20260328T100000
DTEND;TZID=Europe/Amsterdam:20260328T170000
DTSTAMP:20260423T000145
CREATED:20250109T164143Z
LAST-MODIFIED:20260129T215124Z
UID:761-1774692000-1774717200@wildro.nl
SUMMARY:Braderie Winkelcentrum Nobellaan Assen
DESCRIPTION:Braderie \nGrondplaats: € 6\,00 per strekkende meter\nKraam: € 40\,00 (excl. btw incl. grondplaats) per kraam \n(0ver grondplaats wordt geen btw berekend) \nExtra’s bij kraam:  (aangeven bij opmerkingen) \nExtra noklat € 2\,50 per stuk\nExtra set planken € 5\,00
URL:https://wildro.nl/event/braderie-nobellaan-in-assen/
CATEGORIES:Braderieën
END:VEVENT
BEGIN:VEVENT
DTSTART;TZID=UTC:20260322T100000
DTEND;TZID=UTC:20260322T160000
DTSTAMP:20260423T000145
CREATED:20240617T125822Z
LAST-MODIFIED:20251023T115741Z
UID:713-1774173600-1774195200@wildro.nl
SUMMARY:Braderie en vlooienmarkt Eurohal Zuidbroek
DESCRIPTION:Braderie \nGrondplaats: € 6\,00 per strekkende meter\nKraam: € 35\,00 (excl. btw incl. grondplaats) per kraam \nVlooienmarkt \nGrondplaats: 5 meter € 15\,00 10 meter € 25\,00\nKraam: € 25\,00 (incl. grondplaats) per kraam \n(0ver grondplaats wordt geen btw berekend)
URL:https://wildro.nl/event/braderie-zuidbroek22maart/
CATEGORIES:Braderieën,Vlooienmarkten
END:VEVENT
BEGIN:VEVENT
DTSTART;TZID=UTC:20260308T100000
DTEND;TZID=UTC:20260308T160000
DTSTAMP:20260423T000145
CREATED:20240617T125727Z
LAST-MODIFIED:20251023T121128Z
UID:711-1772964000-1772985600@wildro.nl
SUMMARY:Braderie en vlooienmarkt Eurohal Zuidbroek
DESCRIPTION:Braderie \nGrondplaats: € 6\,00 per strekkende meter\nKraam: € 35\,00 (excl. btw incl. grondplaats) per kraam \nVlooienmarkt \nGrondplaats: 5 meter € 15\,00 10 meter € 25\,00\nKraam: € 25\,00 (incl. grondplaats) per kraam \n(0ver grondplaats wordt geen btw berekend)
URL:https://wildro.nl/event/braderie-zuidbroek8maart/
CATEGORIES:Braderieën,Vlooienmarkten
END:VEVENT
BEGIN:VEVENT
DTSTART;TZID=UTC:20260222T100000
DTEND;TZID=UTC:20260222T160000
DTSTAMP:20260423T000145
CREATED:20240617T125538Z
LAST-MODIFIED:20251023T121229Z
UID:709-1771754400-1771776000@wildro.nl
SUMMARY:Braderie en vlooienmarkt Eurohal Zuidbroek
DESCRIPTION:Braderie \nGrondplaats: € 6\,00 per strekkende meter\nKraam: € 35\,00 (excl. btw incl. grondplaats) per kraam \nVlooienmarkt \nGrondplaats: 5 meter € 15\,00 10 meter € 25\,00\nKraam: € 25\,00 (incl. grondplaats) per kraam \n(0ver grondplaats wordt geen btw berekend)
URL:https://wildro.nl/event/braderie-zuidbroek22februari/
CATEGORIES:Braderieën,Vlooienmarkten
END:VEVENT
BEGIN:VEVENT
DTSTART;TZID=UTC:20260208T100000
DTEND;TZID=UTC:20260208T160000
DTSTAMP:20260423T000145
CREATED:20240617T125313Z
LAST-MODIFIED:20251023T121340Z
UID:707-1770544800-1770566400@wildro.nl
SUMMARY:Braderie en vlooienmarkt Eurohal Zuidbroek
DESCRIPTION:Braderie \nGrondplaats: € 6\,00 per strekkende meter\nKraam: € 35\,00 (excl. btw incl. grondplaats) per kraam \nVlooienmarkt \nGrondplaats: 5 meter € 15\,00 10 meter € 25\,00\nKraam: € 25\,00 (incl. grondplaats) per kraam \n(0ver grondplaats wordt geen btw berekend)
URL:https://wildro.nl/event/braderie-zuidbroek8februari/
CATEGORIES:Braderieën,Vlooienmarkten
END:VEVENT
BEGIN:VEVENT
DTSTART;TZID=Europe/Amsterdam:20251220T150000
DTEND;TZID=Europe/Amsterdam:20251220T210000
DTSTAMP:20260423T000145
CREATED:20251103T144242Z
LAST-MODIFIED:20251103T144242Z
UID:981-1766242800-1766264400@wildro.nl
SUMMARY:Kerstmarkt Moonlightshopping Centrum Haaksbergen
DESCRIPTION:Kerstmarkt \nKraam: € 50\,00 (excl. btw incl. grondplaats) per kraam \nExtra’s bij kraam:  (aangeven bij opmerkingen) \nExtra noklat € 2\,50 per stuk\nExtra set planken € 5\,00
URL:https://wildro.nl/event/kerstmarkt-moonlightshopping-centrum-haaksbergen/
CATEGORIES:Braderieën,Kerstmarkten
END:VEVENT
BEGIN:VEVENT
DTSTART;VALUE=DATE:20251220
DTEND;VALUE=DATE:20260105
DTSTAMP:20260423T000145
CREATED:20241121T170711Z
LAST-MODIFIED:20251019T181920Z
UID:750-1766188800-1767571199@wildro.nl
SUMMARY:Braderie Kerstplaza Groningen - Eurohal Zuidbroek
DESCRIPTION:Braderie tijdens Kerstplaza in de Eurohal Zuidbroek \n20  December t/m 30 December 2025 – 11:00 – 19:00\n24 December Kerstavond 11.00 – 17:00 uur\n31 December Oudjaarsdag Gesloten\n1 Januari Nieuwsjaarsdag 12:00 – 19:00 uur\n2 t/m 4 januari 2025 11.00 – 19:00 uur \n \nKraam: € 450\,00 (excl. btw incl. grondplaats) per kraam. \n(kraamhuur is verplicht\, geen grondplaats mogelijk. Kraam aangekleed in kerstsfeer). \nHet is niet mogelijk enkele dagen te huren\, lege kraam niet toegestaan. \n  \n 
URL:https://wildro.nl/event/braderie-kerstplaza-groningen-eurohal-zuidbroek/
CATEGORIES:Braderieën,Kerstmarkten
END:VEVENT
BEGIN:VEVENT
DTSTART;TZID=Europe/Amsterdam:20251219T130000
DTEND;TZID=Europe/Amsterdam:20251221T170000
DTSTAMP:20260423T000145
CREATED:20251008T134249Z
LAST-MODIFIED:20251008T134249Z
UID:958-1766149200-1766336400@wildro.nl
SUMMARY:Kerstmarkt Centrum Assen
DESCRIPTION:Driedaagse bruisende kerstmarkt in het Centrum van Assen \nVrijdag 19 december 13:oo tot 21:00 uur \nZaterdag 20 december 10:00 tot 17:00 uur \nZondag 21 december 12:00 tot 17:00 uur \nKraamhuur per dag inclusief grondplaats excl. btw € 40\,00 per kraam \nGrondplaatshuur vrij van btw € 6\,00 per meter
URL:https://wildro.nl/event/kerstmarkt-centrum-assen/
CATEGORIES:Braderieën,Kerstmarkten
END:VEVENT
BEGIN:VEVENT
DTSTART;VALUE=DATE:20251212
DTEND;VALUE=DATE:20251215
DTSTAMP:20260423T000145
CREATED:20250909T180341Z
LAST-MODIFIED:20250909T180341Z
UID:935-1765497600-1765756799@wildro.nl
SUMMARY:Stadslichtfestival Hoogeveen | Park Dwingeland
DESCRIPTION:Stadslichtfestival Hoogeveen 2025\n\n\nHet tweede weekend van December word Hoogeveen na succesvolle voorgaande edities ook dit jaar omgetoverd tot een levensecht kerstdorp! Met een waar walhalla aan licht en geluid\, verkoopchalets en diverse entertainers beloofd ook dit jaar weer opnieuw een spraakmakende sensatie te worden! \n\nNieuw in 2025: Word betoverd in een magisch stadspark vol licht\, geluid\, kramen en horeca
URL:https://wildro.nl/event/stadslichtfestival-hoogeveen-park-dwingeland/
CATEGORIES:Braderieën,Kerstmarkten
END:VEVENT
BEGIN:VEVENT
DTSTART;VALUE=DATE:20251212
DTEND;VALUE=DATE:20251215
DTSTAMP:20260423T000145
CREATED:20250114T184012Z
LAST-MODIFIED:20250909T175524Z
UID:846-1765497600-1765756799@wildro.nl
SUMMARY:Stadslichtfestival Hoogeveen | Hoofdstraat
DESCRIPTION:Stadslichtfestival Hoogeveen 2025\n\n\nHet tweede weekend van December word Hoogeveen na succesvolle voorgaande edities ook dit jaar omgetoverd tot een levensecht kerstdorp! Met een waar walhalla aan licht en geluid\, verkoopchalets en diverse entertainers beloofd ook dit jaar weer opnieuw een spraakmakende sensatie te worden! \n\nNieuw in 2025: Word betoverd in een magisch stadspark vol licht\, geluid\, kramen en horeca
URL:https://wildro.nl/event/stadslichtfestival-hoogeveen/
CATEGORIES:Braderieën,Kerstmarkten
END:VEVENT
BEGIN:VEVENT
DTSTART;TZID=Europe/Amsterdam:20251210T160000
DTEND;TZID=Europe/Amsterdam:20251210T210000
DTSTAMP:20260423T000145
CREATED:20240604T130003Z
LAST-MODIFIED:20250630T133031Z
UID:698-1765382400-1765400400@wildro.nl
SUMMARY:Kerstmarkt Centrum Gramsbergen
DESCRIPTION:Braderie \nGrondplaats: € 6\,00 per strekkende meter\nKraam: € 40\,00 (excl. btw incl. grondplaats) per kraam \n(over grondplaats wordt geen btw berekend)
URL:https://wildro.nl/event/braderie-winkelcentrum-nobellaan-assen-4-2-9-2/
CATEGORIES:Braderieën,Kerstmarkten
END:VEVENT
BEGIN:VEVENT
DTSTART;TZID=Europe/Amsterdam:20251207T110000
DTEND;TZID=Europe/Amsterdam:20251207T170000
DTSTAMP:20260423T000145
CREATED:20250917T104659Z
LAST-MODIFIED:20250917T104829Z
UID:951-1765105200-1765126800@wildro.nl
SUMMARY:Kerstmarkt  Centrum\, Ruinen
DESCRIPTION:Kerstmarkt \nZaterdag 6 December 14:00 – 20:00 uur \nZondag 7 December 11:00 – 17:00 uur \nGrondplaats: € 6\,00 per strekkende meter\nKraam: € 40\,00 (excl. btw incl. grondplaats) per kraam \n(over grondplaats wordt geen btw berekend)
URL:https://wildro.nl/event/kerstmarkt-ruinen-2/
CATEGORIES:Braderieën,Kerstmarkten
END:VEVENT
BEGIN:VEVENT
DTSTART;TZID=Europe/Amsterdam:20251207T110000
DTEND;TZID=Europe/Amsterdam:20251207T170000
DTSTAMP:20260423T000145
CREATED:20240604T125807Z
LAST-MODIFIED:20250630T133324Z
UID:696-1765105200-1765126800@wildro.nl
SUMMARY:Kerstmarkt Centrum Zwartemeer
DESCRIPTION:Braderie \nGrondplaats: € 6\,00 per strekkende meter\nKraam: € 40\,00 (excl. btw incl. grondplaats) per kraam \n(over grondplaats wordt geen btw berekend)
URL:https://wildro.nl/event/braderie-winkelcentrum-nobellaan-assen-4-2-9/
CATEGORIES:Braderieën,Kerstmarkten
END:VEVENT
BEGIN:VEVENT
DTSTART;TZID=Europe/Amsterdam:20251206T140000
DTEND;TZID=Europe/Amsterdam:20251206T220000
DTSTAMP:20260423T000145
CREATED:20250917T104415Z
LAST-MODIFIED:20250930T192912Z
UID:948-1765029600-1765058400@wildro.nl
SUMMARY:Kerstmarkt  Centrum\, Ruinen
DESCRIPTION:Kerstmarkt \nZaterdag 6 December 14:00 – 20:00 uur \nZondag 7 December 11:00 – 17:00 uur \nGrondplaats: € 6\,00 per strekkende meter\nKraam: € 40\,00 (excl. btw incl. grondplaats) per kraam \n(over grondplaats wordt geen btw berekend)
URL:https://wildro.nl/event/kerstmarkt-ruinen/
CATEGORIES:Braderieën,Kerstmarkten
END:VEVENT
BEGIN:VEVENT
DTSTART;TZID=UTC:20251129T100000
DTEND;TZID=UTC:20251129T170000
DTSTAMP:20260423T000145
CREATED:20240110T134802Z
LAST-MODIFIED:20250114T183205Z
UID:384-1764410400-1764435600@wildro.nl
SUMMARY:Braderie winkelcentrum Nobellaan Assen
DESCRIPTION:Braderie \nGrondplaats: € 6\,00 per strekkende meter\nKraam: € 40\,00 (excl. btw incl. grondplaats) per kraam \n(over grondplaats wordt geen btw berekend)
URL:https://wildro.nl/event/braderie-winkelcentrum-nobellaan-assen-3-2-2/
CATEGORIES:Braderieën
END:VEVENT
BEGIN:VEVENT
DTSTART;TZID=Europe/Amsterdam:20250927T100000
DTEND;TZID=Europe/Amsterdam:20250927T170000
DTSTAMP:20260423T000145
CREATED:20250701T145146Z
LAST-MODIFIED:20250701T150031Z
UID:892-1758967200-1758992400@wildro.nl
SUMMARY:Sfeervol Hoogeveen
DESCRIPTION:Op Zaterdag 27 september 2025 word de Binnenstad van Hoogeveen omgetoverd tot een waar sfeerfestijn\, met onder andere; een boekenmarkt\, platenmarkt\, mineralenmarkt\, streekproducten\, lifestylemarkt en een kleintje braderie! deze dag zou worden aangekleed met foodtrucks\, drinken en muziek om er een gezellig geheel van te maken. \nPrijzen stand: \nMarktkraam 4 meter (incl. grondplaats) Boeken/platenmarkt € 30\,00 \nMarktkraam 4 meter (Incl. grondplaats Excl. BTW) Mineralenmarkt € 50\,00 \nMarktkraam 4 meter (Incl. grondplaats Excl. BTW) lifestylemarkt € 50\,00 \nMarktkraam 4 meter (Incl. grondplaats Excl. BTW) kleintje braderie € 50\,00 \nVoor alle categorieën grondplaats; € 6\,00 per strekkende meter (over grondplaats word geen BTW berekend). \nFood op aanvraag \nLET OP! bij het aanmelden op het inschrijfformulier aangeven onder welke categorie u zich inschrijft.
URL:https://wildro.nl/event/sfeervol-hoogeveen/
CATEGORIES:Boekenmarkt,Braderieën,Kerstmarkten,Platenmarkt
END:VEVENT
BEGIN:VEVENT
DTSTART;TZID=Europe/Amsterdam:20250921T110000
DTEND;TZID=Europe/Amsterdam:20250921T160000
DTSTAMP:20260423T000145
CREATED:20250820T194326Z
LAST-MODIFIED:20250820T194522Z
UID:906-1758452400-1758470400@wildro.nl
SUMMARY:Braderie Oranjefeestweek Coevorden
DESCRIPTION:Braderie \nGrondplaats: € 6\,00 per strekkende meter\nKraam: € 30\,00 (excl. btw incl. grondplaats) per kraam \n(over grondplaats wordt geen btw berekend)
URL:https://wildro.nl/event/oranjefeestweek-coevorden/
CATEGORIES:Braderieën
END:VEVENT
BEGIN:VEVENT
DTSTART;TZID=Europe/Amsterdam:20250913T100000
DTEND;TZID=Europe/Amsterdam:20250913T170000
DTSTAMP:20260423T000145
CREATED:20240111T161654Z
LAST-MODIFIED:20250114T182344Z
UID:557-1757757600-1757782800@wildro.nl
SUMMARY:Braderie en vlooienmarkt Vestingmarkt Centrum Coevorden
DESCRIPTION:Braderie \nGrondplaats: € 6\,00 per strekkende meter\nKraam: € 40\,00 (excl. btw incl. grondplaats) per kraam \nVlooienmarkt \nGrondplaats: € 3\,00 per strekkende meter\nKraam: € 30\,00 (incl. grondplaats) per kraam \n(over grondplaats wordt geen btw berekend)
URL:https://wildro.nl/event/braderie-en-vlooienmarkt-centrum-coevorden-4/
CATEGORIES:Braderieën,Vlooienmarkten
END:VEVENT
BEGIN:VEVENT
DTSTART;TZID=Europe/Amsterdam:20250902T110000
DTEND;TZID=Europe/Amsterdam:20250902T180000
DTSTAMP:20260423T000145
CREATED:20240523T111606Z
LAST-MODIFIED:20250114T182105Z
UID:685-1756810800-1756836000@wildro.nl
SUMMARY:Braderie en vlooienmarkt Jaarmarkt Wedde
DESCRIPTION:Braderie \nGrondplaats: € 6\,00 per strekkende meter\nKraam: € 40\,00 (excl. btw incl. grondplaats) per kraam \nVlooienmarkt \nGrondplaats: € 3\,00 per strekkende meter\nKraam: € 30\,00 (incl. grondplaats) per kraam \n(over grondplaats wordt geen btw berekend)
URL:https://wildro.nl/event/braderie-en-vlooienmarkt-najaarsmarkt-centrum-gieten-2/
CATEGORIES:Braderieën,Vlooienmarkten
END:VEVENT
BEGIN:VEVENT
DTSTART;TZID=Europe/Amsterdam:20250826T100000
DTEND;TZID=Europe/Amsterdam:20250826T170000
DTSTAMP:20260423T000145
CREATED:20240111T144834Z
LAST-MODIFIED:20250114T180951Z
UID:509-1756202400-1756227600@wildro.nl
SUMMARY:Braderie en vlooienmarkt Zomermarkt Centrum Vledder
DESCRIPTION:Braderie \nGrondplaats: € 6\,00 per strekkende meter\nKraam: € 40\,00 (excl. btw incl. grondplaats) per kraam \nVlooienmarkt \nGrondplaats: € 3\,00 per strekkende meter\nKraam: € 30\,00 (incl. grondplaats) per kraam \n(over grondplaats wordt geen btw berekend)
URL:https://wildro.nl/event/braderie-en-vlooienmarkt-zomermarkt-centrum-vledder-2-5/
CATEGORIES:Braderieën,Vlooienmarkten
END:VEVENT
BEGIN:VEVENT
DTSTART;TZID=Europe/Amsterdam:20250823T100000
DTEND;TZID=Europe/Amsterdam:20250823T170000
DTSTAMP:20260423T000145
CREATED:20240111T160441Z
LAST-MODIFIED:20250114T181201Z
UID:551-1755943200-1755968400@wildro.nl
SUMMARY:Braderie en vlooienmarkt Vestingmarkt Centrum Coevorden
DESCRIPTION:Braderie \nGrondplaats: € 6\,00 per strekkende meter\nKraam: € 40\,00 (excl. btw incl. grondplaats) per kraam \nVlooienmarkt \nGrondplaats: € 3\,00 per strekkende meter\nKraam: € 30\,00 (incl. grondplaats) per kraam \n(over grondplaats wordt geen btw berekend)
URL:https://wildro.nl/event/braderie-en-vlooienmarkt-centrum-coevorden-3/
CATEGORIES:Braderieën,Vlooienmarkten
END:VEVENT
BEGIN:VEVENT
DTSTART;TZID=Europe/Amsterdam:20250819T100000
DTEND;TZID=Europe/Amsterdam:20250819T170000
DTSTAMP:20260423T000145
CREATED:20240111T144733Z
LAST-MODIFIED:20250114T180729Z
UID:507-1755597600-1755622800@wildro.nl
SUMMARY:Braderie en vlooienmarkt Zomermarkt Centrum Vledder
DESCRIPTION:Braderie \nGrondplaats: € 6\,00 per strekkende meter\nKraam: € 40\,00 (excl. btw incl. grondplaats) per kraam \nVlooienmarkt \nGrondplaats: € 3\,00 per strekkende meter\nKraam: € 30\,00 (incl. grondplaats) per kraam \n(over grondplaats wordt geen btw berekend)
URL:https://wildro.nl/event/braderie-en-vlooienmarkt-zomermarkt-centrum-vledder-2-4/
CATEGORIES:Braderieën,Vlooienmarkten
END:VEVENT
BEGIN:VEVENT
DTSTART;TZID=Europe/Amsterdam:20250816T100000
DTEND;TZID=Europe/Amsterdam:20250816T170000
DTSTAMP:20260423T000145
CREATED:20240111T160310Z
LAST-MODIFIED:20250114T180552Z
UID:549-1755338400-1755363600@wildro.nl
SUMMARY:Braderie en vlooienmarkt Vestingmarkt Centrum Coevorden
DESCRIPTION:Braderie \nGrondplaats: € 6\,00 per strekkende meter\nKraam: € 40\,00 (excl. btw incl. grondplaats) per kraam \nVlooienmarkt \nGrondplaats: € 3\,00 per strekkende meter\nKraam: € 30\,00 (incl. grondplaats) per kraam \n(over grondplaats wordt geen btw berekend)
URL:https://wildro.nl/event/braderie-en-vlooienmarkt-centrum-coevorden-2-2/
CATEGORIES:Braderieën,Vlooienmarkten
END:VEVENT
BEGIN:VEVENT
DTSTART;TZID=Europe/Amsterdam:20250812T100000
DTEND;TZID=Europe/Amsterdam:20250812T170000
DTSTAMP:20260423T000145
CREATED:20240111T144639Z
LAST-MODIFIED:20250114T180237Z
UID:505-1754992800-1755018000@wildro.nl
SUMMARY:Braderie en vlooienmarkt Zomermarkt Centrum Vledder
DESCRIPTION:Braderie \nGrondplaats: € 6\,00 per strekkende meter\nKraam: € 40\,00 (excl. btw incl. grondplaats) per kraam \nVlooienmarkt \nGrondplaats: € 3\,00 per strekkende meter\nKraam: € 30\,00 (incl. grondplaats) per kraam \n(over grondplaats wordt geen btw berekend)
URL:https://wildro.nl/event/braderie-en-vlooienmarkt-zomermarkt-centrum-vledder-2-3/
CATEGORIES:Braderieën,Vlooienmarkten
END:VEVENT
BEGIN:VEVENT
DTSTART;TZID=Europe/Amsterdam:20250809T100000
DTEND;TZID=Europe/Amsterdam:20250809T170000
DTSTAMP:20260423T000145
CREATED:20240111T160159Z
LAST-MODIFIED:20250114T175919Z
UID:547-1754733600-1754758800@wildro.nl
SUMMARY:Platenmarkt Centrum Coevorden
DESCRIPTION:Platenmarkt \nGrondplaats: € 6\,00 per strekkende meter\nKraam: € 40\,00 (excl. btw incl. grondplaats) per kraam \n(over grondplaats wordt geen btw berekend)
URL:https://wildro.nl/event/braderie-en-vlooienmarkt-centrum-coevorden-2/
CATEGORIES:Braderieën,Platenmarkt
END:VEVENT
BEGIN:VEVENT
DTSTART;TZID=Europe/Amsterdam:20250805T100000
DTEND;TZID=Europe/Amsterdam:20250805T170000
DTSTAMP:20260423T000145
CREATED:20240111T144454Z
LAST-MODIFIED:20250114T175523Z
UID:503-1754388000-1754413200@wildro.nl
SUMMARY:Braderie en vlooienmarkt Zomermarkt Centrum Vledder
DESCRIPTION:Braderie \nGrondplaats: € 6\,00 per strekkende meter\nKraam: € 40\,00 (excl. btw incl. grondplaats) per kraam \nVlooienmarkt \nGrondplaats: € 3\,00 per strekkende meter\nKraam: € 30\,00 (incl. grondplaats) per kraam \n(over grondplaats wordt geen btw berekend)
URL:https://wildro.nl/event/braderie-en-vlooienmarkt-zomermarkt-centrum-vledder-2-2/
CATEGORIES:Braderieën,Vlooienmarkten
END:VEVENT
BEGIN:VEVENT
DTSTART;TZID=Europe/Amsterdam:20250729T100000
DTEND;TZID=Europe/Amsterdam:20250729T170000
DTSTAMP:20260423T000145
CREATED:20240111T144340Z
LAST-MODIFIED:20250114T174809Z
UID:501-1753783200-1753808400@wildro.nl
SUMMARY:Braderie en vlooienmarkt Zomermarkt Centrum Vledder
DESCRIPTION:Braderie \nGrondplaats: € 6\,00 per strekkende meter\nKraam: € 40\,00 (excl. btw incl. grondplaats) per kraam \nVlooienmarkt \nGrondplaats: € 3\,00 per strekkende meter\nKraam: € 30\,00 (incl. grondplaats) per kraam \n(over grondplaats wordt geen btw berekend)
URL:https://wildro.nl/event/braderie-en-vlooienmarkt-zomermarkt-centrum-vledder-2/
CATEGORIES:Braderieën,Vlooienmarkten
END:VEVENT
END:VCALENDAR