BEGIN:VCALENDAR
VERSION:2.0
PRODID:-//Wildro - ECPv6.2.9//NONSGML v1.0//EN
CALSCALE:GREGORIAN
METHOD:PUBLISH
X-ORIGINAL-URL:https://wildro.nl
X-WR-CALDESC:Evenementen voor Wildro
REFRESH-INTERVAL;VALUE=DURATION:PT1H
X-Robots-Tag:noindex
X-PUBLISHED-TTL:PT1H
BEGIN:VTIMEZONE
TZID:UTC
BEGIN:STANDARD
TZOFFSETFROM:+0000
TZOFFSETTO:+0000
TZNAME:UTC
DTSTART:20260101T000000
END:STANDARD
END:VTIMEZONE
BEGIN:VEVENT
DTSTART;TZID=UTC:20260405T100000
DTEND;TZID=UTC:20260405T160000
DTSTAMP:20260423T020427
CREATED:20251023T121415Z
LAST-MODIFIED:20251023T121530Z
UID:974-1775383200-1775404800@wildro.nl
SUMMARY:Braderie en vlooienmarkt Eurohal Zuidbroek 1e paasdag
DESCRIPTION:Braderie \nGrondplaats: € 6\,00 per strekkende meter\nKraam: € 35\,00 (excl. btw incl. grondplaats) per kraam \nVlooienmarkt \nGrondplaats: 5 meter € 15\,00 10 meter € 25\,00\nKraam: € 25\,00 (incl. grondplaats) per kraam \n(0ver grondplaats wordt geen btw berekend)
URL:https://wildro.nl/event/braderie-zuidbroek1epaasdag/
CATEGORIES:Braderieën,Vlooienmarkten
END:VEVENT
END:VCALENDAR