BEGIN:VCALENDAR
VERSION:2.0
PRODID:-//Wildro - ECPv6.2.9//NONSGML v1.0//EN
CALSCALE:GREGORIAN
METHOD:PUBLISH
X-WR-CALNAME:Wildro
X-ORIGINAL-URL:https://wildro.nl
X-WR-CALDESC:Evenementen voor Wildro
REFRESH-INTERVAL;VALUE=DURATION:PT1H
X-Robots-Tag:noindex
X-PUBLISHED-TTL:PT1H
BEGIN:VTIMEZONE
TZID:Europe/Amsterdam
BEGIN:DAYLIGHT
TZOFFSETFROM:+0100
TZOFFSETTO:+0200
TZNAME:CEST
DTSTART:20250330T010000
END:DAYLIGHT
BEGIN:STANDARD
TZOFFSETFROM:+0200
TZOFFSETTO:+0100
TZNAME:CET
DTSTART:20251026T010000
END:STANDARD
BEGIN:DAYLIGHT
TZOFFSETFROM:+0100
TZOFFSETTO:+0200
TZNAME:CEST
DTSTART:20260329T010000
END:DAYLIGHT
BEGIN:STANDARD
TZOFFSETFROM:+0200
TZOFFSETTO:+0100
TZNAME:CET
DTSTART:20261025T010000
END:STANDARD
END:VTIMEZONE
BEGIN:VEVENT
DTSTART;TZID=Europe/Amsterdam:20251219T130000
DTEND;TZID=Europe/Amsterdam:20251221T170000
DTSTAMP:20260423T094106
CREATED:20251008T134249Z
LAST-MODIFIED:20251008T134249Z
UID:958-1766149200-1766336400@wildro.nl
SUMMARY:Kerstmarkt Centrum Assen
DESCRIPTION:Driedaagse bruisende kerstmarkt in het Centrum van Assen \nVrijdag 19 december 13:oo tot 21:00 uur \nZaterdag 20 december 10:00 tot 17:00 uur \nZondag 21 december 12:00 tot 17:00 uur \nKraamhuur per dag inclusief grondplaats excl. btw € 40\,00 per kraam \nGrondplaatshuur vrij van btw € 6\,00 per meter
URL:https://wildro.nl/event/kerstmarkt-centrum-assen/
CATEGORIES:Braderieën,Kerstmarkten
END:VEVENT
BEGIN:VEVENT
DTSTART;VALUE=DATE:20251220
DTEND;VALUE=DATE:20260105
DTSTAMP:20260423T094106
CREATED:20241121T170711Z
LAST-MODIFIED:20251019T181920Z
UID:750-1766188800-1767571199@wildro.nl
SUMMARY:Braderie Kerstplaza Groningen - Eurohal Zuidbroek
DESCRIPTION:Braderie tijdens Kerstplaza in de Eurohal Zuidbroek \n20  December t/m 30 December 2025 – 11:00 – 19:00\n24 December Kerstavond 11.00 – 17:00 uur\n31 December Oudjaarsdag Gesloten\n1 Januari Nieuwsjaarsdag 12:00 – 19:00 uur\n2 t/m 4 januari 2025 11.00 – 19:00 uur \n \nKraam: € 450\,00 (excl. btw incl. grondplaats) per kraam. \n(kraamhuur is verplicht\, geen grondplaats mogelijk. Kraam aangekleed in kerstsfeer). \nHet is niet mogelijk enkele dagen te huren\, lege kraam niet toegestaan. \n  \n 
URL:https://wildro.nl/event/braderie-kerstplaza-groningen-eurohal-zuidbroek/
CATEGORIES:Braderieën,Kerstmarkten
END:VEVENT
BEGIN:VEVENT
DTSTART;TZID=Europe/Amsterdam:20251220T150000
DTEND;TZID=Europe/Amsterdam:20251220T210000
DTSTAMP:20260423T094106
CREATED:20251103T144242Z
LAST-MODIFIED:20251103T144242Z
UID:981-1766242800-1766264400@wildro.nl
SUMMARY:Kerstmarkt Moonlightshopping Centrum Haaksbergen
DESCRIPTION:Kerstmarkt \nKraam: € 50\,00 (excl. btw incl. grondplaats) per kraam \nExtra’s bij kraam:  (aangeven bij opmerkingen) \nExtra noklat € 2\,50 per stuk\nExtra set planken € 5\,00
URL:https://wildro.nl/event/kerstmarkt-moonlightshopping-centrum-haaksbergen/
CATEGORIES:Braderieën,Kerstmarkten
END:VEVENT
END:VCALENDAR