BEGIN:VCALENDAR
VERSION:2.0
PRODID:-//Wildro - ECPv6.2.9//NONSGML v1.0//EN
CALSCALE:GREGORIAN
METHOD:PUBLISH
X-ORIGINAL-URL:https://wildro.nl
X-WR-CALDESC:Evenementen voor Wildro
REFRESH-INTERVAL;VALUE=DURATION:PT1H
X-Robots-Tag:noindex
X-PUBLISHED-TTL:PT1H
BEGIN:VTIMEZONE
TZID:Europe/Amsterdam
BEGIN:DAYLIGHT
TZOFFSETFROM:+0100
TZOFFSETTO:+0200
TZNAME:CEST
DTSTART:20250330T010000
END:DAYLIGHT
BEGIN:STANDARD
TZOFFSETFROM:+0200
TZOFFSETTO:+0100
TZNAME:CET
DTSTART:20251026T010000
END:STANDARD
END:VTIMEZONE
BEGIN:VEVENT
DTSTART;TZID=Europe/Amsterdam:20251219T130000
DTEND;TZID=Europe/Amsterdam:20251221T170000
DTSTAMP:20260423T094940
CREATED:20251008T134249Z
LAST-MODIFIED:20251008T134249Z
UID:958-1766149200-1766336400@wildro.nl
SUMMARY:Kerstmarkt Centrum Assen
DESCRIPTION:Driedaagse bruisende kerstmarkt in het Centrum van Assen \nVrijdag 19 december 13:oo tot 21:00 uur \nZaterdag 20 december 10:00 tot 17:00 uur \nZondag 21 december 12:00 tot 17:00 uur \nKraamhuur per dag inclusief grondplaats excl. btw € 40\,00 per kraam \nGrondplaatshuur vrij van btw € 6\,00 per meter
URL:https://wildro.nl/event/kerstmarkt-centrum-assen/
CATEGORIES:Braderieën,Kerstmarkten
END:VEVENT
END:VCALENDAR