BEGIN:VCALENDAR
VERSION:2.0
PRODID:-//Wildro - ECPv6.2.9//NONSGML v1.0//EN
CALSCALE:GREGORIAN
METHOD:PUBLISH
X-WR-CALNAME:Wildro
X-ORIGINAL-URL:https://wildro.nl
X-WR-CALDESC:Evenementen voor Wildro
REFRESH-INTERVAL;VALUE=DURATION:PT1H
X-Robots-Tag:noindex
X-PUBLISHED-TTL:PT1H
BEGIN:VTIMEZONE
TZID:Europe/Amsterdam
BEGIN:DAYLIGHT
TZOFFSETFROM:+0100
TZOFFSETTO:+0200
TZNAME:CEST
DTSTART:20250330T010000
END:DAYLIGHT
BEGIN:STANDARD
TZOFFSETFROM:+0200
TZOFFSETTO:+0100
TZNAME:CET
DTSTART:20251026T010000
END:STANDARD
END:VTIMEZONE
BEGIN:VEVENT
DTSTART;TZID=Europe/Amsterdam:20251207T110000
DTEND;TZID=Europe/Amsterdam:20251207T170000
DTSTAMP:20260423T094106
CREATED:20240604T125807Z
LAST-MODIFIED:20250630T133324Z
UID:696-1765105200-1765126800@wildro.nl
SUMMARY:Kerstmarkt Centrum Zwartemeer
DESCRIPTION:Braderie \nGrondplaats: € 6\,00 per strekkende meter\nKraam: € 40\,00 (excl. btw incl. grondplaats) per kraam \n(over grondplaats wordt geen btw berekend)
URL:https://wildro.nl/event/braderie-winkelcentrum-nobellaan-assen-4-2-9/
CATEGORIES:Braderieën,Kerstmarkten
END:VEVENT
BEGIN:VEVENT
DTSTART;TZID=Europe/Amsterdam:20251207T110000
DTEND;TZID=Europe/Amsterdam:20251207T170000
DTSTAMP:20260423T094106
CREATED:20250917T104659Z
LAST-MODIFIED:20250917T104829Z
UID:951-1765105200-1765126800@wildro.nl
SUMMARY:Kerstmarkt  Centrum\, Ruinen
DESCRIPTION:Kerstmarkt \nZaterdag 6 December 14:00 – 20:00 uur \nZondag 7 December 11:00 – 17:00 uur \nGrondplaats: € 6\,00 per strekkende meter\nKraam: € 40\,00 (excl. btw incl. grondplaats) per kraam \n(over grondplaats wordt geen btw berekend)
URL:https://wildro.nl/event/kerstmarkt-ruinen-2/
CATEGORIES:Braderieën,Kerstmarkten
END:VEVENT
END:VCALENDAR